BEGIN:VCALENDAR
VERSION:2.0
PRODID:-//Young-Williams Animal Center - ECPv6.15.13.1//NONSGML v1.0//EN
CALSCALE:GREGORIAN
METHOD:PUBLISH
X-WR-CALNAME:Young-Williams Animal Center
X-ORIGINAL-URL:https://www.young-williams.org
X-WR-CALDESC:Events for Young-Williams Animal Center
REFRESH-INTERVAL;VALUE=DURATION:PT1H
X-Robots-Tag:noindex
X-PUBLISHED-TTL:PT1H
BEGIN:VTIMEZONE
TZID:UTC
BEGIN:STANDARD
TZOFFSETFROM:+0000
TZOFFSETTO:+0000
TZNAME:UTC
DTSTART:20210101T000000
END:STANDARD
END:VTIMEZONE
BEGIN:VEVENT
DTSTART;TZID=UTC:20220511T170000
DTEND;TZID=UTC:20220511T190000
DTSTAMP:20260421T061922
CREATED:20220506T224025Z
LAST-MODIFIED:20220506T224136Z
UID:16124-1652288400-1652295600@www.young-williams.org
SUMMARY:Pet Supermarket Adoption Event
DESCRIPTION:Pet Supermarket Adoption Event\n6704 Clinton Hwy\, Knoxville\nWednesday\, May 11\n5pm – 7pm\n$25 Adoption Fee for all Adult Cats and Dogs (6 months or older)\nPet Supermarket Encourages Families to “Lend A Paw” on Behalf of Local Rescues and Shelters\nBy hosting its nationwide Lend A Paw fundraiser and adoption event\, the pet supply retailer prepares to bring abandoned animals closer to loving homes \nFLORIDA – As “National Adopt a Shelter Pet Day” approaches on Saturday\, April 30\, Pet Supermarket\, a specialty pet supply retailer with over 200 stores across the U.S. Southeast\, is continuing its commitment to local rescues and shelters. From Friday\, May 6\, to Sunday\, May 22\, Pet Supermarket’s Lend A Paw fundraiser gives pet parents the opportunity to support abandoned animals in need of food\, shelter and veterinary care. \nDuring the fundraiser\, visitors to all Pet Supermarket locations can contribute to the rescues and shelters in their communities by: \n\npurchasing a $5 limited-edition bandana and showing off their pet’s style on social media with the hashtag #LendAPawForPets\,\nproviding a monetary donation of their choosing at checkout\,\nadopting an animal in need from their local Pet Supermarket at the storewide adoption event on Wednesday\, May 11.\n\nAll proceeds from bandana sales and donations will be divided among 14 rescues and shelters in Pet Supermarket’s service areas. They will be used to support animals like Jack\, a kitten in the care of Planned PEThood of Georgia (Duluth\, Georgia) that was treated for kidney failure before finding his “furever” home. \n“Donations from supporters allowed Jack to get the medical care he needed\, including a costly ultrasound\, to identify his condition\,” according to the rescue. “Without donations and support from companies like Pet Supermarket\, Jack would not have been able to get the medical care needed to identify his medical needs and set him up for success.” \nAdditional recipient rescues and shelters include: Florida Pointers Rescue (New Smyrna Beach\, Florida)\, Gulf Coast Humane Society (Fort Myers\, Florida)\, Humane Society of Greater Miami (North Miami Beach\, Florida)\, Lucky Cat Adoptions (Fleming Island\, Florida)\, Mission K9 Rescue (Needville\, Texas)\, PAWsitive Supporters (Marietta\, Georgia)\, Peggy Adams Animal Rescue League (West Palm Beach\, Florida)\, Pet Alliance of Greater Orlando (Orlando\, Florida)\, Pita & Pecan’s Animal Refuge (Hayden\, Alabama)\, Saving Sage Animal Rescue Foundation (Fort Lauderdale\, Florida)\, Stepping Stones Canine Rescue (Winston-Salem\, North Carolina)\, Southeastern Guide Dogs (Palmetto\, Florida) and Young-Williams Animal Center (Knoxville\, Tennessee). \nThrough Pet Supermarket’s charitable giving initiatives\, the retailer has raised over $750\,000 in just the last year for rescues\, shelters and canine military heroes. \n“Friendship and loyalty are the foundations that pets provide us\,” said Jonathan Rodriguez\, Pet Supermarket’s Senior Manager of Campaign Strategy and Creative Development. “As an organization\, Pet Supermarket is proud return the favor to the pets in our communities by strengthening local rescues and shelters.” \nFor more information about the Lend A Paw fundraiser and adoption event\, including success stories like Jack’s\, visit Pet Supermarket’s interactive landing page – set to launch on Wednesday\, April 27 – at www.petsupermarket.com/lend-a-paw. \nABOUT PET SUPERMARKET     Pet Supermarket is a one-stop pet shop for customers\, offering a broad selection of premium pet food\, supplies and services sold by trained professional staff who provide knowledgeable and friendly advice\, enhancing the overall customer experience. Pet Supermarket has over 200 stores that provide pet parents with the convenience to shop locally in a community-oriented and caring environment\, delivered by employees who develop lasting connections with their customers. To learn more about Pet Supermarket\, visit https://www.petsupermarket.com.
URL:https://www.young-williams.org/event/pet-supermarket-adoption-event/
LOCATION:Pet Supermarket\, 6704 Clinton Hwy\, Knoxville\, 37912
CATEGORIES:Adoption Event
END:VEVENT
END:VCALENDAR