BEGIN:VCALENDAR
VERSION:2.0
PRODID:-//Young-Williams Animal Center - ECPv6.15.13.1//NONSGML v1.0//EN
CALSCALE:GREGORIAN
METHOD:PUBLISH
X-WR-CALNAME:Young-Williams Animal Center
X-ORIGINAL-URL:https://www.young-williams.org
X-WR-CALDESC:Events for Young-Williams Animal Center
REFRESH-INTERVAL;VALUE=DURATION:PT1H
X-Robots-Tag:noindex
X-PUBLISHED-TTL:PT1H
BEGIN:VTIMEZONE
TZID:America/New_York
BEGIN:DAYLIGHT
TZOFFSETFROM:-0500
TZOFFSETTO:-0400
TZNAME:EDT
DTSTART:20250309T070000
END:DAYLIGHT
BEGIN:STANDARD
TZOFFSETFROM:-0400
TZOFFSETTO:-0500
TZNAME:EST
DTSTART:20251102T060000
END:STANDARD
BEGIN:DAYLIGHT
TZOFFSETFROM:-0500
TZOFFSETTO:-0400
TZNAME:EDT
DTSTART:20260308T070000
END:DAYLIGHT
BEGIN:STANDARD
TZOFFSETFROM:-0400
TZOFFSETTO:-0500
TZNAME:EST
DTSTART:20261101T060000
END:STANDARD
BEGIN:DAYLIGHT
TZOFFSETFROM:-0500
TZOFFSETTO:-0400
TZNAME:EDT
DTSTART:20270314T070000
END:DAYLIGHT
BEGIN:STANDARD
TZOFFSETFROM:-0400
TZOFFSETTO:-0500
TZNAME:EST
DTSTART:20271107T060000
END:STANDARD
END:VTIMEZONE
BEGIN:VTIMEZONE
TZID:UTC
BEGIN:STANDARD
TZOFFSETFROM:+0000
TZOFFSETTO:+0000
TZNAME:UTC
DTSTART:20250101T000000
END:STANDARD
END:VTIMEZONE
BEGIN:VEVENT
DTSTART;TZID=America/New_York:20260112T080000
DTEND;TZID=America/New_York:20260112T163000
DTSTAMP:20260422T050825
CREATED:20251219T191031Z
LAST-MODIFIED:20251219T191031Z
UID:3522485-1768204800-1768235400@www.young-williams.org
SUMMARY:Spay/Neuter Shuttle @ Knox County Health Department
DESCRIPTION:Drop Off for dogs is 8:00 AM and Pickup is 4:00 PM. Drop Off for cats is 8:30 AM and Pickup is 4:30 PM.
URL:https://www.young-williams.org/event/spay-neuter-shuttle-knox-county-health-department-8/
LOCATION:Knox County Health Department\, 140 Dameron Ave\, Knoxville\, TN\, 37917\, United States
CATEGORIES:Spay Shuttle Calendar
END:VEVENT
BEGIN:VEVENT
DTSTART;TZID=America/New_York:20260113T080000
DTEND;TZID=America/New_York:20260113T163000
DTSTAMP:20260422T050826
CREATED:20251219T191032Z
LAST-MODIFIED:20251219T191032Z
UID:3522486-1768291200-1768321800@www.young-williams.org
SUMMARY:Spay/Neuter Shuttle @ Shelter
DESCRIPTION:Drop Off for dogs is 8:00 AM and Pickup is 4:00 PM. Drop Off for cats is 8:30 AM and Pickup is 4:30 PM.
URL:https://www.young-williams.org/event/spay-neuter-shuttle-shelter/
LOCATION:Shuttle@Shelter\, 3201 Division Street\, Knoxville\, TN\, 37919\, United States
CATEGORIES:Spay Shuttle Calendar
END:VEVENT
BEGIN:VEVENT
DTSTART;TZID=America/New_York:20260115T080000
DTEND;TZID=America/New_York:20260115T163000
DTSTAMP:20260422T050826
CREATED:20251219T191032Z
LAST-MODIFIED:20251219T191032Z
UID:3522487-1768464000-1768494600@www.young-williams.org
SUMMARY:Spay/Neuter Shuttle @ Tommy Schumpert Park
DESCRIPTION:Drop Off for dogs is 8:00 AM and Pickup is 4:00 PM. Drop Off for cats is 8:30 AM and Pickup is 4:30 PM.
URL:https://www.young-williams.org/event/spay-neuter-shuttle-tommy-schumpert-park/
LOCATION:Tommy Schumpert Park\, 6400 Fountain City Road\, Knoxville\, 37918\, United States
CATEGORIES:Spay Shuttle Calendar
END:VEVENT
BEGIN:VEVENT
DTSTART;TZID=America/New_York:20260116T080000
DTEND;TZID=America/New_York:20260116T163000
DTSTAMP:20260422T050826
CREATED:20251219T191032Z
LAST-MODIFIED:20251219T191032Z
UID:3522488-1768550400-1768581000@www.young-williams.org
SUMMARY:Spay/Neuter Shuttle @ Sam Duff
DESCRIPTION:Drop Off for dogs is 8:00 AM and Pickup is 4:00 PM. Drop Off for cats is 8:30 AM and Pickup is 4:30 PM.
URL:https://www.young-williams.org/event/spay-neuter-shuttle-sam-duff/
LOCATION:Sam Duff Park\, 4060 Chapman Hwy\, Knoxville\, TN\, 37920\, United States
CATEGORIES:Spay Shuttle Calendar
END:VEVENT
BEGIN:VEVENT
DTSTART;TZID=UTC:20260117T110000
DTEND;TZID=UTC:20260117T150000
DTSTAMP:20260422T050826
CREATED:20230905T203239Z
LAST-MODIFIED:20260416T174941Z
UID:358700-1768647600-1768662000@www.young-williams.org
SUMMARY:Petco Adoption Event – Farragut
DESCRIPTION:Ready to welcome the love of a pet into your home? Petco is committed to matching wonderful\, adoptable pets with loving families. \nOur adoptable pets will be at Petco Farragut for this adoption event. Stop by to see our adoptable cats\, kittens and dogs. No appointment is necessary to meet the adoptable pets at this event. Adoption fees must be paid by credit card only: no cash accepted for adoption fees at this time.  Can’t make it this month? We’re there the third Saturday of each month PLUS have adoptable cats in the store habitats looking for a new home all the time! Stop by\, say hi and adopt a new friend as part of our life-saving partnership with the Petco Love.
URL:https://www.young-williams.org/event/petco-adoption-event-farragut-23/2026-01-17/
LOCATION:PetCo Farragut\, 169 Brooklawn St\, Farragut\, TN\, 37934\, United States
CATEGORIES:Adoption Event,All Events,Featured
END:VEVENT
END:VCALENDAR