BEGIN:VCALENDAR
VERSION:2.0
PRODID:-//Young-Williams Animal Center - ECPv6.15.13.1//NONSGML v1.0//EN
CALSCALE:GREGORIAN
METHOD:PUBLISH
X-ORIGINAL-URL:https://www.young-williams.org
X-WR-CALDESC:Events for Young-Williams Animal Center
REFRESH-INTERVAL;VALUE=DURATION:PT1H
X-Robots-Tag:noindex
X-PUBLISHED-TTL:PT1H
BEGIN:VTIMEZONE
TZID:America/New_York
BEGIN:DAYLIGHT
TZOFFSETFROM:-0500
TZOFFSETTO:-0400
TZNAME:EDT
DTSTART:20240310T070000
END:DAYLIGHT
BEGIN:STANDARD
TZOFFSETFROM:-0400
TZOFFSETTO:-0500
TZNAME:EST
DTSTART:20241103T060000
END:STANDARD
BEGIN:DAYLIGHT
TZOFFSETFROM:-0500
TZOFFSETTO:-0400
TZNAME:EDT
DTSTART:20250309T070000
END:DAYLIGHT
BEGIN:STANDARD
TZOFFSETFROM:-0400
TZOFFSETTO:-0500
TZNAME:EST
DTSTART:20251102T060000
END:STANDARD
BEGIN:DAYLIGHT
TZOFFSETFROM:-0500
TZOFFSETTO:-0400
TZNAME:EDT
DTSTART:20260308T070000
END:DAYLIGHT
BEGIN:STANDARD
TZOFFSETFROM:-0400
TZOFFSETTO:-0500
TZNAME:EST
DTSTART:20261101T060000
END:STANDARD
END:VTIMEZONE
BEGIN:VTIMEZONE
TZID:UTC
BEGIN:STANDARD
TZOFFSETFROM:+0000
TZOFFSETTO:+0000
TZNAME:UTC
DTSTART:20240101T000000
END:STANDARD
END:VTIMEZONE
BEGIN:VEVENT
DTSTART;TZID=America/New_York:20251110T080000
DTEND;TZID=America/New_York:20251110T163000
DTSTAMP:20260423T104422
CREATED:20251112T135214Z
LAST-MODIFIED:20251119T143044Z
UID:3353178-1762761600-1762792200@www.young-williams.org
SUMMARY:Spay/Neuter Shuttle @ Tommy Shumpert Park
DESCRIPTION:Drop Off for dogs is 8:00 AM and Pickup is 4:00 PM. Drop Off for cats is 8:30 AM and Pickup is 4:30 PM.
URL:https://www.young-williams.org/event/spay-neuter-shuttle-tommy-shumpert-park-3/
LOCATION:Tommy Schumpert Park\, 6400 Fountain City Road\, Knoxville\, 37918\, United States
CATEGORIES:Spay Shuttle Calendar
END:VEVENT
BEGIN:VEVENT
DTSTART;TZID=America/New_York:20251111T080000
DTEND;TZID=America/New_York:20251111T163000
DTSTAMP:20260423T104422
CREATED:20251112T135329Z
LAST-MODIFIED:20251119T143049Z
UID:3353179-1762848000-1762878600@www.young-williams.org
SUMMARY:Spay/Neuter Shuttle @ Shelter Public
DESCRIPTION:Drop Off for dogs is 8:00 AM and Pickup is 4:00 PM. Drop Off for cats is 8:30 AM and Pickup is 4:30 PM.
URL:https://www.young-williams.org/event/spay-neuter-shuttle-shelter-public/
LOCATION:Shuttle@Shelter\, 3201 Division Street\, Knoxville\, TN\, 37919\, United States
CATEGORIES:Spay Shuttle Calendar
END:VEVENT
BEGIN:VEVENT
DTSTART;TZID=America/New_York:20251113T080000
DTEND;TZID=America/New_York:20251113T163000
DTSTAMP:20260423T104422
CREATED:20251112T135415Z
LAST-MODIFIED:20251112T135415Z
UID:3353180-1763020800-1763051400@www.young-williams.org
SUMMARY:Spay/Neuter Shuttle @ Shelter Public
DESCRIPTION:Drop Off for dogs is 8:00 AM and Pickup is 4:00 PM. Drop Off for cats is 8:30 AM and Pickup is 4:30 PM.
URL:https://www.young-williams.org/event/spay-neuter-shuttle-shelter-public-2/
LOCATION:Shuttle@Shelter\, 3201 Division Street\, Knoxville\, TN\, 37919\, United States
END:VEVENT
BEGIN:VEVENT
DTSTART;TZID=America/New_York:20251113T183000
DTEND;TZID=America/New_York:20251113T230000
DTSTAMP:20260423T104422
CREATED:20250613T140229Z
LAST-MODIFIED:20250613T140623Z
UID:2562517-1763058600-1763074800@www.young-williams.org
SUMMARY:Cause for Paws 2025
DESCRIPTION:We are so excited to celebrate our 11th Annual Cause for Paws on Thursday\, November 13 at the Knoxville Museum of Art. \nThis signature event is an annual highlight as we celebrate our important lifesaving work\, share our successes and give you a glimpse into the future of Young-Williams Animal Center. Enjoy cocktails in the garden\, seated dinner\, entertainment and special appearances from some of our furry friends. We promise an evening filled with happy tails. \nAs the municipal shelter of the City of Knoxville and Knox County\, the shelter takes in more than 11\,000 lost\, unwanted\, abandoned and neglected animals each year and depends on animal lovers and fundraisers to provide the best quality of life while these pets are in the shelter’s care. \nWe could not do our important work without your help and hope you’ll join us for this fun evening. \nLearn more\, become a sponsor and purchase tickets at: young-williams.org/c4p
URL:https://www.young-williams.org/event/cause-for-paws-2025/
LOCATION:Knoxville Museum of Art\, 1050 Worlds Fair Park Dr.\, Knoxville\, TN\, 37916\, United States
CATEGORIES:All Events,Featured,Fundraiser
ATTACH;FMTTYPE=image/jpeg:https://www.young-williams.org/wp-content/uploads/2025/06/IMG_2694-min-scaled.jpg
END:VEVENT
BEGIN:VEVENT
DTSTART;TZID=UTC:20251115T110000
DTEND;TZID=UTC:20251115T150000
DTSTAMP:20260423T104422
CREATED:20230905T203239Z
LAST-MODIFIED:20260416T174940Z
UID:17530-1763204400-1763218800@www.young-williams.org
SUMMARY:Petco Adoption Event – Farragut
DESCRIPTION:Ready to welcome the love of a pet into your home? Petco is committed to matching wonderful\, adoptable pets with loving families. \nOur adoptable pets will be at Petco Farragut for this adoption event. Stop by to see our adoptable cats\, kittens and dogs. No appointment is necessary to meet the adoptable pets at this event. Adoption fees must be paid by credit card only: no cash accepted for adoption fees at this time.  Can’t make it this month? We’re there the third Saturday of each month PLUS have adoptable cats in the store habitats looking for a new home all the time! Stop by\, say hi and adopt a new friend as part of our life-saving partnership with the Petco Love.
URL:https://www.young-williams.org/event/petco-adoption-event-farragut-23/2025-11-15/
LOCATION:PetCo Farragut\, 169 Brooklawn St\, Farragut\, TN\, 37934\, United States
CATEGORIES:Adoption Event,All Events,Featured
END:VEVENT
END:VCALENDAR