BEGIN:VCALENDAR
VERSION:2.0
PRODID:-//Young-Williams Animal Center - ECPv6.15.13.1//NONSGML v1.0//EN
CALSCALE:GREGORIAN
METHOD:PUBLISH
X-ORIGINAL-URL:https://www.young-williams.org
X-WR-CALDESC:Events for Young-Williams Animal Center
REFRESH-INTERVAL;VALUE=DURATION:PT1H
X-Robots-Tag:noindex
X-PUBLISHED-TTL:PT1H
BEGIN:VTIMEZONE
TZID:America/New_York
BEGIN:DAYLIGHT
TZOFFSETFROM:-0500
TZOFFSETTO:-0400
TZNAME:EDT
DTSTART:20240310T070000
END:DAYLIGHT
BEGIN:STANDARD
TZOFFSETFROM:-0400
TZOFFSETTO:-0500
TZNAME:EST
DTSTART:20241103T060000
END:STANDARD
BEGIN:DAYLIGHT
TZOFFSETFROM:-0500
TZOFFSETTO:-0400
TZNAME:EDT
DTSTART:20250309T070000
END:DAYLIGHT
BEGIN:STANDARD
TZOFFSETFROM:-0400
TZOFFSETTO:-0500
TZNAME:EST
DTSTART:20251102T060000
END:STANDARD
BEGIN:DAYLIGHT
TZOFFSETFROM:-0500
TZOFFSETTO:-0400
TZNAME:EDT
DTSTART:20260308T070000
END:DAYLIGHT
BEGIN:STANDARD
TZOFFSETFROM:-0400
TZOFFSETTO:-0500
TZNAME:EST
DTSTART:20261101T060000
END:STANDARD
END:VTIMEZONE
BEGIN:VTIMEZONE
TZID:UTC
BEGIN:STANDARD
TZOFFSETFROM:+0000
TZOFFSETTO:+0000
TZNAME:UTC
DTSTART:20240101T000000
END:STANDARD
END:VTIMEZONE
BEGIN:VEVENT
DTSTART;TZID=America/New_York:20250428T080000
DTEND;TZID=America/New_York:20250428T160000
DTSTAMP:20260425T073328
CREATED:20250331T200115Z
LAST-MODIFIED:20250331T200115Z
UID:2252734-1745827200-1745856000@www.young-williams.org
SUMMARY:Shuttle @ Adair Park
DESCRIPTION:
URL:https://www.young-williams.org/event/shuttle-adair-park-56/
LOCATION:Adair Park\, 1807 Adair Drive\, Knoxville\, TN\, 37918\, United States
CATEGORIES:Spay Shuttle Calendar
END:VEVENT
BEGIN:VEVENT
DTSTART;TZID=America/New_York:20250501T080000
DTEND;TZID=America/New_York:20250501T170000
DTSTAMP:20260425T073329
CREATED:20250429T141705Z
LAST-MODIFIED:20250429T141705Z
UID:2368751-1746086400-1746118800@www.young-williams.org
SUMMARY:Shuttle @ Knox County Health Department
DESCRIPTION:
URL:https://www.young-williams.org/event/shuttle-knox-county-health-department-48/
LOCATION:Knox County Health Department\, 140 Dameron Ave\, Knoxville\, TN\, 37917\, United States
CATEGORIES:Spay Shuttle Calendar
END:VEVENT
BEGIN:VEVENT
DTSTART;TZID=America/New_York:20250502T080000
DTEND;TZID=America/New_York:20250502T160000
DTSTAMP:20260425T073329
CREATED:20250429T135234Z
LAST-MODIFIED:20250429T135234Z
UID:2368649-1746172800-1746201600@www.young-williams.org
SUMMARY:Shuttle @ Sam Duff
DESCRIPTION:
URL:https://www.young-williams.org/event/shuttle-sam-duff-12/
LOCATION:Sam Duff Park\, 4060 Chapman Hwy\, Knoxville\, TN\, 37920\, United States
CATEGORIES:Spay Shuttle Calendar
END:VEVENT
BEGIN:VEVENT
DTSTART;TZID=UTC:20250503T110000
DTEND;TZID=UTC:20250503T150000
DTSTAMP:20260425T073329
CREATED:20230801T195238Z
LAST-MODIFIED:20260416T174839Z
UID:17255-1746270000-1746284400@www.young-williams.org
SUMMARY:Petco Adoption Event - Bearden
DESCRIPTION:Ready to welcome the love of a pet into your home? Petco is committed to matching wonderful\, adoptable pets with loving families. \nOur adoptable pets will be at Petco Bearden for this adoption event. Stop by to see our adoptable cats\, kittens and dogs. No appointment is necessary to meet the adoptable pets at this event. Adoption fees must be paid by credit card only: no cash accepted for adoption fees at this time. Can’t make it this month? We’re there the first Saturday of each month PLUS have adoptable cats in the store habitats looking for a new home all the time! Stop by\, say hi and adopt a new friend as part of our life-saving partnership with the Petco Love.
URL:https://www.young-williams.org/event/petco-adoption-event-bearden-25/2025-05-03/
LOCATION:Petco Bearden\, 4908 Kingston Pike\, Knoxville\, Tennessee\, 37919\, United States
CATEGORIES:Adoption Event,All Events,Featured
END:VEVENT
END:VCALENDAR