BEGIN:VCALENDAR
VERSION:2.0
PRODID:-//Young-Williams Animal Center - ECPv6.15.13.1//NONSGML v1.0//EN
CALSCALE:GREGORIAN
METHOD:PUBLISH
X-ORIGINAL-URL:https://www.young-williams.org
X-WR-CALDESC:Events for Young-Williams Animal Center
REFRESH-INTERVAL;VALUE=DURATION:PT1H
X-Robots-Tag:noindex
X-PUBLISHED-TTL:PT1H
BEGIN:VTIMEZONE
TZID:UTC
BEGIN:STANDARD
TZOFFSETFROM:+0000
TZOFFSETTO:+0000
TZNAME:UTC
DTSTART:20230101T000000
END:STANDARD
END:VTIMEZONE
BEGIN:VEVENT
DTSTART;TZID=UTC:20240819T080000
DTEND;TZID=UTC:20240819T160000
DTSTAMP:20260421T070250
CREATED:20240626T221655Z
LAST-MODIFIED:20240626T221655Z
UID:1016319-1724054400-1724083200@www.young-williams.org
SUMMARY:Shuttle @ Chilhowee Park
DESCRIPTION:
URL:https://www.young-williams.org/event/shuttle-chilhowee-park-53/
LOCATION:Chilhowee Park\, 3301 East Magnolia Ave\, Knoxvill\, TN\, 37914\, United States
CATEGORIES:Spay Shuttle Calendar
END:VEVENT
BEGIN:VEVENT
DTSTART;TZID=UTC:20240820T080000
DTEND;TZID=UTC:20240820T160000
DTSTAMP:20260421T070250
CREATED:20240626T221747Z
LAST-MODIFIED:20240626T221747Z
UID:1016321-1724140800-1724169600@www.young-williams.org
SUMMARY:Shuttle @ Knox County Health Department
DESCRIPTION:
URL:https://www.young-williams.org/event/shuttle-knox-county-health-department-43/
LOCATION:Knox County Health Department\, 140 Dameron Ave\, Knoxville\, TN\, 37917\, United States
CATEGORIES:Spay Shuttle Calendar
END:VEVENT
BEGIN:VEVENT
DTSTART;TZID=UTC:20240822T080000
DTEND;TZID=UTC:20240822T160000
DTSTAMP:20260421T070250
CREATED:20240626T221823Z
LAST-MODIFIED:20240626T221823Z
UID:1016322-1724313600-1724342400@www.young-williams.org
SUMMARY:Shuttle @ Charter Doyle Park
DESCRIPTION:
URL:https://www.young-williams.org/event/shuttle-charter-doyle-park-38/
LOCATION:Charter Doyle Park\, 5100 W Martin Mill Park\, Knoxville\, 37920\, United States
CATEGORIES:Spay Shuttle Calendar
END:VEVENT
BEGIN:VEVENT
DTSTART;TZID=UTC:20240823T080000
DTEND;TZID=UTC:20240823T160000
DTSTAMP:20260421T070250
CREATED:20240626T221903Z
LAST-MODIFIED:20240626T221903Z
UID:1016323-1724400000-1724428800@www.young-williams.org
SUMMARY:Shuttle @ New Harvest Park
DESCRIPTION:
URL:https://www.young-williams.org/event/shuttle-new-harvest-park-37/
LOCATION:New Harvest Park\, 4775 New Harvest Lane\, Knoxville\, TN\, 37918\, United States
CATEGORIES:Spay Shuttle Calendar
END:VEVENT
END:VCALENDAR