BEGIN:VCALENDAR
VERSION:2.0
PRODID:-//Young-Williams Animal Center - ECPv6.15.13.1//NONSGML v1.0//EN
CALSCALE:GREGORIAN
METHOD:PUBLISH
X-ORIGINAL-URL:https://www.young-williams.org
X-WR-CALDESC:Events for Young-Williams Animal Center
REFRESH-INTERVAL;VALUE=DURATION:PT1H
X-Robots-Tag:noindex
X-PUBLISHED-TTL:PT1H
BEGIN:VTIMEZONE
TZID:UTC
BEGIN:STANDARD
TZOFFSETFROM:+0000
TZOFFSETTO:+0000
TZNAME:UTC
DTSTART:20230101T000000
END:STANDARD
END:VTIMEZONE
BEGIN:VEVENT
DTSTART;TZID=UTC:20240301T080000
DTEND;TZID=UTC:20240301T160000
DTSTAMP:20260424T085830
CREATED:20240130T221658Z
LAST-MODIFIED:20240130T221658Z
UID:422144-1709280000-1709308800@www.young-williams.org
SUMMARY:Spay Shuttle@ Knox County Health Department
DESCRIPTION:
URL:https://www.young-williams.org/event/spay-shuttle-knox-county-health-department/
LOCATION:Knox County Health Department\, 140 Dameron Ave\, Knoxville\, TN\, 37917\, United States
CATEGORIES:Spay Shuttle Calendar
END:VEVENT
END:VCALENDAR