BEGIN:VCALENDAR
VERSION:2.0
PRODID:-//Young-Williams Animal Center - ECPv6.15.13.1//NONSGML v1.0//EN
CALSCALE:GREGORIAN
METHOD:PUBLISH
X-WR-CALNAME:Young-Williams Animal Center
X-ORIGINAL-URL:https://www.young-williams.org
X-WR-CALDESC:Events for Young-Williams Animal Center
REFRESH-INTERVAL;VALUE=DURATION:PT1H
X-Robots-Tag:noindex
X-PUBLISHED-TTL:PT1H
BEGIN:VTIMEZONE
TZID:UTC
BEGIN:STANDARD
TZOFFSETFROM:+0000
TZOFFSETTO:+0000
TZNAME:UTC
DTSTART:20230101T000000
END:STANDARD
END:VTIMEZONE
BEGIN:VEVENT
DTSTART;TZID=UTC:20240205T080000
DTEND;TZID=UTC:20240205T160000
DTSTAMP:20260425T091543
CREATED:20240108T193213Z
LAST-MODIFIED:20240108T193213Z
UID:306810-1707120000-1707148800@www.young-williams.org
SUMMARY:Shuttle@ Knox County Health Department
DESCRIPTION:
URL:https://www.young-williams.org/event/shuttle-knox-county-health-department-38/
LOCATION:Knox County Health Department\, 140 Dameron Ave\, Knoxville\, TN\, 37917\, United States
CATEGORIES:Spay Shuttle Calendar
END:VEVENT
BEGIN:VEVENT
DTSTART;TZID=UTC:20240206T080000
DTEND;TZID=UTC:20240206T160000
DTSTAMP:20260425T091543
CREATED:20240108T190042Z
LAST-MODIFIED:20240108T191808Z
UID:306716-1707206400-1707235200@www.young-williams.org
SUMMARY:Shuttle@ Fountain City Library
DESCRIPTION:
URL:https://www.young-williams.org/event/shuttle-fountain-city-library-28/
LOCATION:Fountian City Library\, 5300 Stanton Road\, Knoxville\, TN\, 37918\, United States
CATEGORIES:Spay Shuttle Calendar
END:VEVENT
BEGIN:VEVENT
DTSTART;TZID=UTC:20240208T080000
DTEND;TZID=UTC:20240208T160000
DTSTAMP:20260425T091543
CREATED:20240108T190119Z
LAST-MODIFIED:20240108T191744Z
UID:306717-1707379200-1707408000@www.young-williams.org
SUMMARY:Shuttle@ Victor Ashe Park
DESCRIPTION:
URL:https://www.young-williams.org/event/shuttle-victor-ashe-park-42/
LOCATION:Victor Ashe Park\, 4901 Bradshaw Road\, Knoxville\, TN\, 37912\, United States
CATEGORIES:Spay Shuttle Calendar
END:VEVENT
BEGIN:VEVENT
DTSTART;TZID=UTC:20240209T080000
DTEND;TZID=UTC:20240209T160000
DTSTAMP:20260425T091543
CREATED:20240108T190156Z
LAST-MODIFIED:20240108T191648Z
UID:306718-1707465600-1707494400@www.young-williams.org
SUMMARY:Shuttle@ Milton Roberts Park
DESCRIPTION:
URL:https://www.young-williams.org/event/shuttle-milton-roberts-park-18/
LOCATION:Milton Roberts Park\, 5900 Asheville Hwy\, Knoxville\, TN\, 37924\, United States
CATEGORIES:Spay Shuttle Calendar
END:VEVENT
END:VCALENDAR