BEGIN:VCALENDAR
VERSION:2.0
PRODID:-//Young-Williams Animal Center - ECPv6.15.13.1//NONSGML v1.0//EN
CALSCALE:GREGORIAN
METHOD:PUBLISH
X-WR-CALNAME:Young-Williams Animal Center
X-ORIGINAL-URL:https://www.young-williams.org
X-WR-CALDESC:Events for Young-Williams Animal Center
REFRESH-INTERVAL;VALUE=DURATION:PT1H
X-Robots-Tag:noindex
X-PUBLISHED-TTL:PT1H
BEGIN:VTIMEZONE
TZID:UTC
BEGIN:STANDARD
TZOFFSETFROM:+0000
TZOFFSETTO:+0000
TZNAME:UTC
DTSTART:20220101T000000
END:STANDARD
END:VTIMEZONE
BEGIN:VEVENT
DTSTART;TZID=UTC:20231114T080000
DTEND;TZID=UTC:20231114T170000
DTSTAMP:20260424T084645
CREATED:20231113T234909Z
LAST-MODIFIED:20231113T235435Z
UID:17415-1699948800-1699981200@www.young-williams.org
SUMMARY:Shuttle @ Chilhowee Park
DESCRIPTION:
URL:https://www.young-williams.org/event/shuttle-chilhowee-park-46/
LOCATION:Chilhowee Park\, 3301 East Magnolia Ave\, Knoxvill\, TN\, 37914\, United States
CATEGORIES:All Events,Spay Shuttle Calendar
END:VEVENT
BEGIN:VEVENT
DTSTART;TZID=UTC:20231116T080000
DTEND;TZID=UTC:20231116T160000
DTSTAMP:20260424T084645
CREATED:20231113T234717Z
LAST-MODIFIED:20231113T235547Z
UID:17413-1700121600-1700150400@www.young-williams.org
SUMMARY:Shuttle @ Shelter
DESCRIPTION:
URL:https://www.young-williams.org/event/shuttle-shelter-48/
LOCATION:Young-Williams Animal Center\, 3201 Division Street\, Knoxville\, TN\, 37919\, United States
CATEGORIES:All Events,Spay Shuttle Calendar
END:VEVENT
BEGIN:VEVENT
DTSTART;TZID=UTC:20231116T183000
DTEND;TZID=UTC:20231116T230000
DTSTAMP:20260424T084645
CREATED:20230905T202027Z
LAST-MODIFIED:20230905T202027Z
UID:17209-1700159400-1700175600@www.young-williams.org
SUMMARY:Cause For Paws 2023
DESCRIPTION:We are so excited to celebrate our 9th Annual Cause for Paws on Thursday\, November 16 at the Knoxville Museum of Art. \nThis signature event is an annual highlight as we celebrate our important lifesaving work\, share our successes and give you a glimpse into the future of Young-Williams Animal Center. Enjoy cocktails in the garden\, seated dinner\, entertainment and special appearances from some of our furry friends. We promise an evening filled with happy tails. \nAs the municipal shelter of the City of Knoxville and Knox County\, the shelter takes in more than 11\,000 lost\, unwanted\, abandoned and neglected animals each year and depends on animal lovers and fundraisers to provide the best quality of life while these pets are in the shelter’s care. \nWe could not do our important work without your help and hope you’ll join us for this fun evening. \nLearn more\, become a sponsor and purchase tickets at: www.young-williams.org/c4p
URL:https://www.young-williams.org/event/cause-for-paws-2023/
LOCATION:Knoxville Museum of Art\, 1050 Worlds Fair Park Dr.\, Knoxville\, TN\, 37916\, United States
CATEGORIES:All Events,Charity Event,Featured,Fundraiser
END:VEVENT
BEGIN:VEVENT
DTSTART;TZID=UTC:20231117T080000
DTEND;TZID=UTC:20231117T160000
DTSTAMP:20260424T084645
CREATED:20231113T235059Z
LAST-MODIFIED:20231113T235708Z
UID:17416-1700208000-1700236800@www.young-williams.org
SUMMARY:Shuttle @ Victor Ashe
DESCRIPTION:
URL:https://www.young-williams.org/event/shuttle-victor-ashe-2/
LOCATION:Victor Ashe Park\, 4901 Bradshaw Road\, Knoxville\, TN\, 37912\, United States
CATEGORIES:All Events,Spay Shuttle Calendar
END:VEVENT
END:VCALENDAR