BEGIN:VCALENDAR
VERSION:2.0
PRODID:-//Young-Williams Animal Center - ECPv6.15.13.1//NONSGML v1.0//EN
CALSCALE:GREGORIAN
METHOD:PUBLISH
X-ORIGINAL-URL:https://www.young-williams.org
X-WR-CALDESC:Events for Young-Williams Animal Center
REFRESH-INTERVAL;VALUE=DURATION:PT1H
X-Robots-Tag:noindex
X-PUBLISHED-TTL:PT1H
BEGIN:VTIMEZONE
TZID:UTC
BEGIN:STANDARD
TZOFFSETFROM:+0000
TZOFFSETTO:+0000
TZNAME:UTC
DTSTART:20220101T000000
END:STANDARD
END:VTIMEZONE
BEGIN:VEVENT
DTSTART;TZID=UTC:20230619T080000
DTEND;TZID=UTC:20230619T160000
DTSTAMP:20260421T043225
CREATED:20230613T225107Z
LAST-MODIFIED:20230613T225107Z
UID:17097-1687161600-1687190400@www.young-williams.org
SUMMARY:Shuttle @ Adair Park
DESCRIPTION:
URL:https://www.young-williams.org/event/shuttle-adair-park-34/
LOCATION:Adair Park\, 1807 Adair Drive\, Knoxville\, TN\, 37918\, United States
CATEGORIES:Spay Shuttle Calendar
END:VEVENT
BEGIN:VEVENT
DTSTART;TZID=UTC:20230620T080000
DTEND;TZID=UTC:20230620T170000
DTSTAMP:20260421T043225
CREATED:20230613T225447Z
LAST-MODIFIED:20230613T225447Z
UID:17098-1687248000-1687280400@www.young-williams.org
SUMMARY:Shuttle@ Karns Library
DESCRIPTION:
URL:https://www.young-williams.org/event/shuttle-karns-library-30/
LOCATION:Karns Library\, 7516 Oak Ridge Hwy\, Knoville\, TN\, 37931\, United States
CATEGORIES:Spay Shuttle Calendar
END:VEVENT
BEGIN:VEVENT
DTSTART;TZID=UTC:20230622T080000
DTEND;TZID=UTC:20230622T170000
DTSTAMP:20260421T043225
CREATED:20230613T225602Z
LAST-MODIFIED:20230613T225602Z
UID:17099-1687420800-1687453200@www.young-williams.org
SUMMARY:Shuttle@ Charter Doyle Park
DESCRIPTION:
URL:https://www.young-williams.org/event/shuttle-charter-doyle-park-28/
LOCATION:Charter Doyle Park\, 5100 W Martin Mill Park\, Knoxville\, 37920\, United States
CATEGORIES:Spay Shuttle Calendar
END:VEVENT
BEGIN:VEVENT
DTSTART;TZID=UTC:20230623T080000
DTEND;TZID=UTC:20230623T160000
DTSTAMP:20260421T043225
CREATED:20230613T230021Z
LAST-MODIFIED:20230613T230021Z
UID:17100-1687507200-1687536000@www.young-williams.org
SUMMARY:Shuttle@ Milton Roberts
DESCRIPTION:
URL:https://www.young-williams.org/event/shuttle-milton-roberts-13/
LOCATION:TN
CATEGORIES:Spay Shuttle Calendar
END:VEVENT
END:VCALENDAR