BEGIN:VCALENDAR
VERSION:2.0
PRODID:-//Young-Williams Animal Center - ECPv6.15.13.1//NONSGML v1.0//EN
CALSCALE:GREGORIAN
METHOD:PUBLISH
X-WR-CALNAME:Young-Williams Animal Center
X-ORIGINAL-URL:https://www.young-williams.org
X-WR-CALDESC:Events for Young-Williams Animal Center
REFRESH-INTERVAL;VALUE=DURATION:PT1H
X-Robots-Tag:noindex
X-PUBLISHED-TTL:PT1H
BEGIN:VTIMEZONE
TZID:UTC
BEGIN:STANDARD
TZOFFSETFROM:+0000
TZOFFSETTO:+0000
TZNAME:UTC
DTSTART:20220101T000000
END:STANDARD
END:VTIMEZONE
BEGIN:VEVENT
DTSTART;TZID=UTC:20230310T100000
DTEND;TZID=UTC:20230319T180000
DTSTAMP:20260422T070040
CREATED:20230310T193205Z
LAST-MODIFIED:20230317T072348Z
UID:16901-1678442400-1679248800@www.young-williams.org
SUMMARY:Lucky Dog St. Patrick's Day Adoption Special
DESCRIPTION:What’s better than finding a pot of gold at the end of the rainbow? Finding a lucky dog! \nYoung-Williams Animal Center is at critical capacity and needs your help! Now through March 19\, 2023\, all adult dogs (6 months and older) will be eligible for a $17 adoption fee. \nCome to either of our locations to find your lucky charm. We’re open every day from 10 a.m. to 6 p.m.\, and closed from 1-2 p.m. for animal quiet time. \nSee our adoptable dogs here.
URL:https://www.young-williams.org/event/lucky-dog-st-patricks-day-adoption-special/
LOCATION:TN
CATEGORIES:Adoption Event,All Events
ATTACH;FMTTYPE=image/png:https://www.young-williams.org/wp-content/uploads/2023/03/LUCKY-DOG-social-post.png
END:VEVENT
BEGIN:VEVENT
DTSTART;TZID=UTC:20230320T080000
DTEND;TZID=UTC:20230320T160000
DTSTAMP:20260422T070040
CREATED:20230203T235128Z
LAST-MODIFIED:20230223T013743Z
UID:16822-1679299200-1679328000@www.young-williams.org
SUMMARY:Shuttle @ Tommy Shumpert
DESCRIPTION:
URL:https://www.young-williams.org/event/shuttle-tommy-shumpert-2/
LOCATION:Tommy Schumpert Park\, 6400 Fountain City Road\, Knoxville\, 37918\, United States
CATEGORIES:Spay Shuttle Calendar
END:VEVENT
BEGIN:VEVENT
DTSTART;TZID=UTC:20230321T080000
DTEND;TZID=UTC:20230321T160000
DTSTAMP:20260422T070040
CREATED:20230203T235326Z
LAST-MODIFIED:20230223T013738Z
UID:16823-1679385600-1679414400@www.young-williams.org
SUMMARY:Shuttle @ Chilhowee Park
DESCRIPTION:
URL:https://www.young-williams.org/event/shuttle-chilhowee-park-35/
LOCATION:Chilhowee Park\, 3301 East Magnolia Ave\, Knoxvill\, TN\, 37914\, United States
CATEGORIES:Spay Shuttle Calendar
END:VEVENT
BEGIN:VEVENT
DTSTART;TZID=UTC:20230323T080000
DTEND;TZID=UTC:20230323T160000
DTSTAMP:20260422T070040
CREATED:20230203T235436Z
LAST-MODIFIED:20230223T013733Z
UID:16824-1679558400-1679587200@www.young-williams.org
SUMMARY:Shuttle@ Concord Park
DESCRIPTION:
URL:https://www.young-williams.org/event/shuttle-concord-park-23/
LOCATION:Concord Park\, 10960 Concord Park Dr\, Knoxville\, 37922\, United States
CATEGORIES:Spay Shuttle Calendar
END:VEVENT
BEGIN:VEVENT
DTSTART;TZID=UTC:20230324T080000
DTEND;TZID=UTC:20230324T160000
DTSTAMP:20260422T070040
CREATED:20230204T003615Z
LAST-MODIFIED:20230223T013728Z
UID:16825-1679644800-1679673600@www.young-williams.org
SUMMARY:Shuttle@ Sam Duff
DESCRIPTION:
URL:https://www.young-williams.org/event/shuttle-sam-duff-4/
LOCATION:Sam Duff Park\, 4060 Chapman Hwy\, Knoxville\, TN\, 37920\, United States
CATEGORIES:Spay Shuttle Calendar
END:VEVENT
END:VCALENDAR