BEGIN:VCALENDAR
VERSION:2.0
PRODID:-//Young-Williams Animal Center - ECPv6.15.13.1//NONSGML v1.0//EN
CALSCALE:GREGORIAN
METHOD:PUBLISH
X-ORIGINAL-URL:https://www.young-williams.org
X-WR-CALDESC:Events for Young-Williams Animal Center
REFRESH-INTERVAL;VALUE=DURATION:PT1H
X-Robots-Tag:noindex
X-PUBLISHED-TTL:PT1H
BEGIN:VTIMEZONE
TZID:UTC
BEGIN:STANDARD
TZOFFSETFROM:+0000
TZOFFSETTO:+0000
TZNAME:UTC
DTSTART:20220101T000000
END:STANDARD
END:VTIMEZONE
BEGIN:VEVENT
DTSTART;TZID=UTC:20230213T080000
DTEND;TZID=UTC:20230213T160000
DTSTAMP:20260420T071906
CREATED:20230104T025356Z
LAST-MODIFIED:20230104T025356Z
UID:16734-1676275200-1676304000@www.young-williams.org
SUMMARY:Shuttle@ Karns Library
DESCRIPTION:
URL:https://www.young-williams.org/event/shuttle-karns-library-26/
LOCATION:Karns Library\, 7516 Oak Ridge Hwy\, Knoville\, TN\, 37931\, United States
CATEGORIES:Spay Shuttle Calendar
END:VEVENT
BEGIN:VEVENT
DTSTART;TZID=UTC:20230214T080000
DTEND;TZID=UTC:20230214T160000
DTSTAMP:20260420T071907
CREATED:20230104T025506Z
LAST-MODIFIED:20230104T025506Z
UID:16735-1676361600-1676390400@www.young-williams.org
SUMMARY:Shuttle@ Knox County Health Department
DESCRIPTION:
URL:https://www.young-williams.org/event/shuttle-knox-county-health-department-27/
LOCATION:Knox County Health Department\, 140 Dameron Ave\, Knoxville\, TN\, 37917\, United States
CATEGORIES:Spay Shuttle Calendar
END:VEVENT
BEGIN:VEVENT
DTSTART;TZID=UTC:20230216T080000
DTEND;TZID=UTC:20230216T160000
DTSTAMP:20260420T071907
CREATED:20230104T025810Z
LAST-MODIFIED:20230223T013948Z
UID:16736-1676534400-1676563200@www.young-williams.org
SUMMARY:Shuttle@ New Harvest Park
DESCRIPTION:
URL:https://www.young-williams.org/event/shuttle-new-harvest-park-23/
LOCATION:New Harvest Park\, 4775 New Harvest Lane\, Knoxville\, TN\, 37918\, United States
CATEGORIES:Spay Shuttle Calendar
END:VEVENT
BEGIN:VEVENT
DTSTART;TZID=UTC:20230217T080000
DTEND;TZID=UTC:20230217T170000
DTSTAMP:20260420T071907
CREATED:20230104T025848Z
LAST-MODIFIED:20230223T013943Z
UID:16737-1676620800-1676653200@www.young-williams.org
SUMMARY:Shuttle@ Charter Doyle Park
DESCRIPTION:
URL:https://www.young-williams.org/event/shuttle-charter-doyle-park-25/
LOCATION:Charter Doyle Park\, 5100 W Martin Mill Park\, Knoxville\, 37920\, United States
CATEGORIES:Spay Shuttle Calendar
END:VEVENT
END:VCALENDAR