BEGIN:VCALENDAR
VERSION:2.0
PRODID:-//Young-Williams Animal Center - ECPv6.15.13.1//NONSGML v1.0//EN
CALSCALE:GREGORIAN
METHOD:PUBLISH
X-ORIGINAL-URL:https://www.young-williams.org
X-WR-CALDESC:Events for Young-Williams Animal Center
REFRESH-INTERVAL;VALUE=DURATION:PT1H
X-Robots-Tag:noindex
X-PUBLISHED-TTL:PT1H
BEGIN:VTIMEZONE
TZID:UTC
BEGIN:STANDARD
TZOFFSETFROM:+0000
TZOFFSETTO:+0000
TZNAME:UTC
DTSTART:20210101T000000
END:STANDARD
END:VTIMEZONE
BEGIN:VEVENT
DTSTART;TZID=UTC:20220412T080000
DTEND;TZID=UTC:20220412T160000
DTSTAMP:20260423T115908
CREATED:20220314T171822Z
LAST-MODIFIED:20220314T171822Z
UID:16013-1649750400-1649779200@www.young-williams.org
SUMMARY:Shuttle@ Chilhowee Park
DESCRIPTION:
URL:https://www.young-williams.org/event/shuttle-chilhowee-park-22/
LOCATION:Chilhowee Park\, 3301 East Magnolia Ave\, Knoxvill\, TN\, 37914\, United States
CATEGORIES:Spay Shuttle Calendar
END:VEVENT
BEGIN:VEVENT
DTSTART;TZID=UTC:20220414T080000
DTEND;TZID=UTC:20220414T170000
DTSTAMP:20260423T115908
CREATED:20220314T180300Z
LAST-MODIFIED:20220314T180300Z
UID:16034-1649923200-1649955600@www.young-williams.org
SUMMARY:Shuttle@Shelter
DESCRIPTION:
URL:https://www.young-williams.org/event/shuttleshelter-4/
LOCATION:TN
CATEGORIES:Spay Shuttle Calendar
END:VEVENT
BEGIN:VEVENT
DTSTART;TZID=UTC:20220416T110000
DTEND;TZID=UTC:20220416T150000
DTSTAMP:20260423T115908
CREATED:20211228T213608Z
LAST-MODIFIED:20211228T213608Z
UID:15836-1650106800-1650121200@www.young-williams.org
SUMMARY:Petco Adoption Event - Farragut
DESCRIPTION:Ready to welcome the love of a pet into your home? We’re expanding our adoption partnership with PetCo to include the Farragut location!  PetCo is committed to matching wonderful\, adoptable pets with loving families. \nOur adoptable pets will be at PetCo Farragut on April 16\, from 11 – 3 for our next adoption event. Stop by to see our adoptable cats\, kittens and dogs. No appointment is necessary to meet the adoptable pets at this event. Adoption fees must be paid by credit card only: no cash accepted for adoption fees at this time. Please wear a mask and follow social distance guidelines while visiting with the animals. \nCan’t make it this month? We’re there the third Saturday of each month. Stop by\, say hi and adopt a new friend as part of our life-saving partnership with the Petco Love.
URL:https://www.young-williams.org/event/petco-adoption-event-farragut-12/
LOCATION:TN
CATEGORIES:Adoption Event,All Events
END:VEVENT
END:VCALENDAR