BEGIN:VCALENDAR
VERSION:2.0
PRODID:-//Young-Williams Animal Center - ECPv6.15.13.1//NONSGML v1.0//EN
CALSCALE:GREGORIAN
METHOD:PUBLISH
X-WR-CALNAME:Young-Williams Animal Center
X-ORIGINAL-URL:https://www.young-williams.org
X-WR-CALDESC:Events for Young-Williams Animal Center
REFRESH-INTERVAL;VALUE=DURATION:PT1H
X-Robots-Tag:noindex
X-PUBLISHED-TTL:PT1H
BEGIN:VTIMEZONE
TZID:UTC
BEGIN:STANDARD
TZOFFSETFROM:+0000
TZOFFSETTO:+0000
TZNAME:UTC
DTSTART:20200101T000000
END:STANDARD
END:VTIMEZONE
BEGIN:VEVENT
DTSTART;VALUE=DATE:20211029
DTEND;VALUE=DATE:20211101
DTSTAMP:20260423T233550
CREATED:20211019T183016Z
LAST-MODIFIED:20211019T183016Z
UID:15791-1635465600-1635724799@www.young-williams.org
SUMMARY:Grayson Subaru “Howl-o-ween” Adoption Event
DESCRIPTION:Young-Williams Animal Center is waiving adoption fees with a financial donation of any amount Friday\, 10/29 through Sunday\, 10/31 for the “Howl-o-ween” Adoption Event sponsored by Grayson Subaru! (*puppies excluded) Come and find your new best friend!
URL:https://www.young-williams.org/event/2021howloween/
LOCATION:TN
END:VEVENT
BEGIN:VEVENT
DTSTART;TZID=UTC:20211102T080000
DTEND;TZID=UTC:20211102T160000
DTSTAMP:20260423T233550
CREATED:20211011T182405Z
LAST-MODIFIED:20211011T182405Z
UID:15776-1635840000-1635868800@www.young-williams.org
SUMMARY:Shuttle@ New Harvests Park
DESCRIPTION:
URL:https://www.young-williams.org/event/shuttle-new-harvests-park/
LOCATION:TN
CATEGORIES:Spay Shuttle Calendar
END:VEVENT
BEGIN:VEVENT
DTSTART;TZID=UTC:20211103T080000
DTEND;TZID=UTC:20211103T160000
DTSTAMP:20260423T233550
CREATED:20211011T182633Z
LAST-MODIFIED:20211011T182633Z
UID:15777-1635926400-1635955200@www.young-williams.org
SUMMARY:Shuttle@Teague Health Department
DESCRIPTION:
URL:https://www.young-williams.org/event/shuttleteague-health-department-3/
LOCATION:TN
CATEGORIES:Spay Shuttle Calendar
END:VEVENT
BEGIN:VEVENT
DTSTART;TZID=UTC:20211105T080000
DTEND;TZID=UTC:20211105T160000
DTSTAMP:20260423T233550
CREATED:20211011T182711Z
LAST-MODIFIED:20211011T182711Z
UID:15778-1636099200-1636128000@www.young-williams.org
SUMMARY:Shuttle@Charter Doyle Park
DESCRIPTION:
URL:https://www.young-williams.org/event/shuttlecharter-doyle-park-4/
LOCATION:TN
CATEGORIES:Spay Shuttle Calendar
END:VEVENT
BEGIN:VEVENT
DTSTART;TZID=UTC:20211106T110000
DTEND;TZID=UTC:20211106T150000
DTSTAMP:20260423T233550
CREATED:20211102T231559Z
LAST-MODIFIED:20211102T231559Z
UID:15793-1636196400-1636210800@www.young-williams.org
SUMMARY:PetCo Adoption Event – Bearden
DESCRIPTION:Ready to welcome the love of a pet into your home? PetCo is committed to matching wonderful\, adoptable pets with loving families. \nOur adoptable pets will be at PetCo Bearden on Saturday\, November 6\, from 11 – 3 for our next adoption event. Stop by to see our adoptable cats\, kittens and dogs. No appointment is necessary to meet the adoptable pets at this event. Adoption fees must be paid by credit card only: no cash accepted for adoption fees at this time.  Can’t make it this month? We’re there the first Saturday of each month PLUS have adoptable cats in the store habitats looking for a new home all the time! Stop by\, say hi and adopt a new friend as part of our life-saving partnership with the Petco Love.
URL:https://www.young-williams.org/event/petco-adoption-event-bearden-9/
LOCATION:TN
CATEGORIES:Adoption Event,All Events
END:VEVENT
END:VCALENDAR