BEGIN:VCALENDAR
VERSION:2.0
PRODID:-//Young-Williams Animal Center - ECPv6.15.13.1//NONSGML v1.0//EN
CALSCALE:GREGORIAN
METHOD:PUBLISH
X-ORIGINAL-URL:https://www.young-williams.org
X-WR-CALDESC:Events for Young-Williams Animal Center
REFRESH-INTERVAL;VALUE=DURATION:PT1H
X-Robots-Tag:noindex
X-PUBLISHED-TTL:PT1H
BEGIN:VTIMEZONE
TZID:UTC
BEGIN:STANDARD
TZOFFSETFROM:+0000
TZOFFSETTO:+0000
TZNAME:UTC
DTSTART:20200101T000000
END:STANDARD
END:VTIMEZONE
BEGIN:VEVENT
DTSTART;TZID=UTC:20211021T183000
DTEND;TZID=UTC:20211021T213000
DTSTAMP:20260425T074754
CREATED:20210604T213703Z
LAST-MODIFIED:20210604T213703Z
UID:14819-1634841000-1634851800@www.young-williams.org
SUMMARY:Cause for Paws 2021
DESCRIPTION:Dear Friends of Young-Williams Animal Center\, \nWe are so excited to celebrate our 7th Annual Cause for Paws on Thursday\, October 21. This signature event raises awareness and dollars to support Young-Williams’ vision of A Home for Every Pet. \nAs the municipal shelter of the City of Knoxville and Knox County\, we take in more than 8\,000 lost\, unwanted\, abandoned and neglected animals each year and depend on animal lovers like you to provide the best quality of life while these pets are in our care. In 2018\, for the first time in the history of our organization\, we achieved a 90%+ save rate\, earning our designation as a no-kill shelter and saving 8\,311 animals. We have maintained that status ever since\, with a 94.8% save-rate currently. \nWe could not do our important work without your help and hope you’ll join us for this fun evening of fabulous food\, great music and the chance to make an impact in the lives of thousands of pets looking for a second chance and a true “tail” of love. \nLearn more\, become a sponsor and purchase tickets at: www.young-williams.org/c4p
URL:https://www.young-williams.org/event/cause-for-paws-2021/
LOCATION:TN
CATEGORIES:All Events,Charity Event,Fundraiser
END:VEVENT
BEGIN:VEVENT
DTSTART;TZID=UTC:20211021T183000
DTEND;TZID=UTC:20211021T213000
DTSTAMP:20260425T074754
CREATED:20210604T213703Z
LAST-MODIFIED:20210604T213703Z
UID:15730-1634841000-1634851800@www.young-williams.org
SUMMARY:Cause for Paws 2021 - POSTPONED
DESCRIPTION:  \nUpdate from our CEO Janet Testerman:  \nIt is with great disappointment I inform you that due to the forecast of rain\, wind and thunderstorms\, we must postpone our Cause for Paws event this evening to ensure the safety of our guests\, pets\, staff and vendors. This was a difficult decision\, and we explored all other scenarios before determining not to continue with the event tonight. We will reach out again as soon as we select a new date. Our staff and volunteers have worked extremely hard to prepare for an exciting night of saving lives\, and we can’t wait to celebrate with you in the near future. All table sponsorships and tickets purchased will be honored for the rescheduled date. If you have any questions or concerns\, please don’t hesitate to reach out to us. \n  \nDear Friends of Young-Williams Animal Center\, \nWe are so excited to celebrate our 7th Annual Cause for Paws on Thursday\, October 21. This signature event raises awareness and dollars to support Young-Williams’ vision of A Home for Every Pet. \nAs the municipal shelter of the City of Knoxville and Knox County\, we take in more than 8\,000 lost\, unwanted\, abandoned and neglected animals each year and depend on animal lovers like you to provide the best quality of life while these pets are in our care. In 2018\, for the first time in the history of our organization\, we achieved a 90%+ save rate\, earning our designation as a no-kill shelter and saving 8\,311 animals. We have maintained that status ever since\, with a 94.8% save-rate currently. \nWe could not do our important work without your help and hope you’ll join us for this fun evening of fabulous food\, great music and the chance to make an impact in the lives of thousands of pets looking for a second chance and a true “tail” of love. \nLearn more\, become a sponsor and purchase tickets at: www.young-williams.org/c4p \nThank you to our generous event sponsors for their support: \nWhitfield and Brittany Bailey\nCreative Mortgage Solutions\nAllison and Fred Smith\nBill Pittman and Tina Roland
URL:https://www.young-williams.org/event/cause-for-paws-2021-2/
LOCATION:TN
CATEGORIES:All Events,Charity Event,Fundraiser
END:VEVENT
BEGIN:VEVENT
DTSTART;VALUE=DATE:20211022
DTEND;VALUE=DATE:20211023
DTSTAMP:20260425T074754
CREATED:20211019T183728Z
LAST-MODIFIED:20211019T183728Z
UID:15792-1634860800-1634947199@www.young-williams.org
SUMMARY:National Make a Dog's Day
DESCRIPTION:Join us in celebrating National “Make a Dog’s Day” and do something extra special for a shelter dog! Consider becoming a dog walker volunteer\, take a dog out on a Doggy Day Trip\, or\, even better\, give a shelter dog a permanent home and adopt one today! All dogs adopted today will receive a special toy from Grayson Subaru.
URL:https://www.young-williams.org/event/make-a-dogs-day-from-grayson-subaru/
LOCATION:TN
END:VEVENT
BEGIN:VEVENT
DTSTART;TZID=UTC:20211025T080000
DTEND;TZID=UTC:20211025T160000
DTSTAMP:20260425T074754
CREATED:20210908T191704Z
LAST-MODIFIED:20210908T191704Z
UID:15766-1635148800-1635177600@www.young-williams.org
SUMMARY:Shuttle@ New Harvest
DESCRIPTION:
URL:https://www.young-williams.org/event/shuttle-new-harvest-4-2/
LOCATION:TN
CATEGORIES:Spay Shuttle Calendar
END:VEVENT
BEGIN:VEVENT
DTSTART;TZID=UTC:20211026T080000
DTEND;TZID=UTC:20211026T160000
DTSTAMP:20260425T074754
CREATED:20210908T191745Z
LAST-MODIFIED:20210908T191745Z
UID:15767-1635235200-1635264000@www.young-williams.org
SUMMARY:Shuttle@ Victor Ashe Park
DESCRIPTION:
URL:https://www.young-williams.org/event/shuttle-victor-ashe-park-16/
LOCATION:TN
CATEGORIES:Spay Shuttle Calendar
END:VEVENT
BEGIN:VEVENT
DTSTART;TZID=UTC:20211028T080000
DTEND;TZID=UTC:20211028T160000
DTSTAMP:20260425T074754
CREATED:20210908T191827Z
LAST-MODIFIED:20210908T191827Z
UID:15768-1635408000-1635436800@www.young-williams.org
SUMMARY:Shuttle@ Concord Park
DESCRIPTION:
URL:https://www.young-williams.org/event/shuttle-concord-park-10/
LOCATION:TN
CATEGORIES:Spay Shuttle Calendar
END:VEVENT
BEGIN:VEVENT
DTSTART;VALUE=DATE:20211029
DTEND;VALUE=DATE:20211101
DTSTAMP:20260425T074754
CREATED:20211019T183016Z
LAST-MODIFIED:20211019T183016Z
UID:15791-1635465600-1635724799@www.young-williams.org
SUMMARY:Grayson Subaru “Howl-o-ween” Adoption Event
DESCRIPTION:Young-Williams Animal Center is waiving adoption fees with a financial donation of any amount Friday\, 10/29 through Sunday\, 10/31 for the “Howl-o-ween” Adoption Event sponsored by Grayson Subaru! (*puppies excluded) Come and find your new best friend!
URL:https://www.young-williams.org/event/2021howloween/
LOCATION:TN
END:VEVENT
BEGIN:VEVENT
DTSTART;TZID=UTC:20211029T080000
DTEND;TZID=UTC:20211029T160000
DTSTAMP:20260425T074754
CREATED:20210908T193410Z
LAST-MODIFIED:20210908T193410Z
UID:15770-1635494400-1635523200@www.young-williams.org
SUMMARY:Shuttle@Chilhowee Park
DESCRIPTION:
URL:https://www.young-williams.org/event/shuttlechilhowee-park-5/
LOCATION:TN
CATEGORIES:Spay Shuttle Calendar
END:VEVENT
BEGIN:VEVENT
DTSTART;TZID=UTC:20211102T080000
DTEND;TZID=UTC:20211102T160000
DTSTAMP:20260425T074754
CREATED:20211011T182405Z
LAST-MODIFIED:20211011T182405Z
UID:15776-1635840000-1635868800@www.young-williams.org
SUMMARY:Shuttle@ New Harvests Park
DESCRIPTION:
URL:https://www.young-williams.org/event/shuttle-new-harvests-park/
LOCATION:TN
CATEGORIES:Spay Shuttle Calendar
END:VEVENT
BEGIN:VEVENT
DTSTART;TZID=UTC:20211103T080000
DTEND;TZID=UTC:20211103T160000
DTSTAMP:20260425T074754
CREATED:20211011T182633Z
LAST-MODIFIED:20211011T182633Z
UID:15777-1635926400-1635955200@www.young-williams.org
SUMMARY:Shuttle@Teague Health Department
DESCRIPTION:
URL:https://www.young-williams.org/event/shuttleteague-health-department-3/
LOCATION:TN
CATEGORIES:Spay Shuttle Calendar
END:VEVENT
BEGIN:VEVENT
DTSTART;TZID=UTC:20211105T080000
DTEND;TZID=UTC:20211105T160000
DTSTAMP:20260425T074754
CREATED:20211011T182711Z
LAST-MODIFIED:20211011T182711Z
UID:15778-1636099200-1636128000@www.young-williams.org
SUMMARY:Shuttle@Charter Doyle Park
DESCRIPTION:
URL:https://www.young-williams.org/event/shuttlecharter-doyle-park-4/
LOCATION:TN
CATEGORIES:Spay Shuttle Calendar
END:VEVENT
BEGIN:VEVENT
DTSTART;TZID=UTC:20211106T110000
DTEND;TZID=UTC:20211106T150000
DTSTAMP:20260425T074754
CREATED:20211102T231559Z
LAST-MODIFIED:20211102T231559Z
UID:15793-1636196400-1636210800@www.young-williams.org
SUMMARY:PetCo Adoption Event – Bearden
DESCRIPTION:Ready to welcome the love of a pet into your home? PetCo is committed to matching wonderful\, adoptable pets with loving families. \nOur adoptable pets will be at PetCo Bearden on Saturday\, November 6\, from 11 – 3 for our next adoption event. Stop by to see our adoptable cats\, kittens and dogs. No appointment is necessary to meet the adoptable pets at this event. Adoption fees must be paid by credit card only: no cash accepted for adoption fees at this time.  Can’t make it this month? We’re there the first Saturday of each month PLUS have adoptable cats in the store habitats looking for a new home all the time! Stop by\, say hi and adopt a new friend as part of our life-saving partnership with the Petco Love.
URL:https://www.young-williams.org/event/petco-adoption-event-bearden-9/
LOCATION:TN
CATEGORIES:Adoption Event,All Events
END:VEVENT
BEGIN:VEVENT
DTSTART;TZID=UTC:20211108T080000
DTEND;TZID=UTC:20211108T160000
DTSTAMP:20260425T074754
CREATED:20211011T182758Z
LAST-MODIFIED:20211011T182758Z
UID:15779-1636358400-1636387200@www.young-williams.org
SUMMARY:Shuttle@Fountain City Park
DESCRIPTION:
URL:https://www.young-williams.org/event/shuttlefountain-city-park/
LOCATION:TN
CATEGORIES:Spay Shuttle Calendar
END:VEVENT
BEGIN:VEVENT
DTSTART;TZID=UTC:20211109T080000
DTEND;TZID=UTC:20211109T160000
DTSTAMP:20260425T074754
CREATED:20211011T182833Z
LAST-MODIFIED:20211011T182833Z
UID:15780-1636444800-1636473600@www.young-williams.org
SUMMARY:Shuttle@ Victor Ashe Park
DESCRIPTION:
URL:https://www.young-williams.org/event/shuttle-victor-ashe-park-17/
LOCATION:TN
CATEGORIES:Spay Shuttle Calendar
END:VEVENT
BEGIN:VEVENT
DTSTART;TZID=UTC:20211111T080000
DTEND;TZID=UTC:20211111T160000
DTSTAMP:20260425T074754
CREATED:20211011T182927Z
LAST-MODIFIED:20211011T182927Z
UID:15781-1636617600-1636646400@www.young-williams.org
SUMMARY:Shuttle@Knox County Health Department
DESCRIPTION:
URL:https://www.young-williams.org/event/shuttleknox-county-health-department-6-2/
LOCATION:TN
CATEGORIES:Spay Shuttle Calendar
END:VEVENT
BEGIN:VEVENT
DTSTART;TZID=UTC:20211112T080000
DTEND;TZID=UTC:20211112T160000
DTSTAMP:20260425T074754
CREATED:20211011T183004Z
LAST-MODIFIED:20211011T183004Z
UID:15782-1636704000-1636732800@www.young-williams.org
SUMMARY:Shuttle@Milton Roberts Park
DESCRIPTION:
URL:https://www.young-williams.org/event/shuttlemilton-roberts-park/
LOCATION:TN
CATEGORIES:Spay Shuttle Calendar
END:VEVENT
BEGIN:VEVENT
DTSTART;TZID=UTC:20211115T080000
DTEND;TZID=UTC:20211115T160000
DTSTAMP:20260425T074754
CREATED:20211011T183036Z
LAST-MODIFIED:20211011T183036Z
UID:15783-1636963200-1636992000@www.young-williams.org
SUMMARY:Shuttle@Adair Park
DESCRIPTION:
URL:https://www.young-williams.org/event/shuttleadair-park-6-2/
LOCATION:TN
CATEGORIES:Spay Shuttle Calendar
END:VEVENT
BEGIN:VEVENT
DTSTART;TZID=UTC:20211116T080000
DTEND;TZID=UTC:20211116T160000
DTSTAMP:20260425T074754
CREATED:20211011T183109Z
LAST-MODIFIED:20211011T183109Z
UID:15784-1637049600-1637078400@www.young-williams.org
SUMMARY:Shuttle@Chilhowee Park
DESCRIPTION:
URL:https://www.young-williams.org/event/shuttlechilhowee-park-6/
LOCATION:TN
CATEGORIES:Spay Shuttle Calendar
END:VEVENT
BEGIN:VEVENT
DTSTART;TZID=UTC:20211117T183000
DTEND;TZID=UTC:20211117T213000
DTSTAMP:20260425T074754
CREATED:20211104T233704Z
LAST-MODIFIED:20211104T233704Z
UID:15809-1637173800-1637184600@www.young-williams.org
SUMMARY:NEW DATE: Cause for Paws
DESCRIPTION:7th Annual Cause for Paws \nWe have a new date! Please join us on Wednesday\, November 17\, 2021 at 6:30 in the evening for a night of fun\, pets\, live music\, dinner\, auctions and more at the Knoxville Museum of Art. \nAll previously purchased tickets\, tables and sponsorships for Cause for Paws 2021 will be honored. For questions\, contact gbennett@young-williams.org or 865.705.9689. \n 
URL:https://www.young-williams.org/event/new-date-cause-for-paws/
LOCATION:Fountain City Library
END:VEVENT
BEGIN:VEVENT
DTSTART;TZID=UTC:20211118T080000
DTEND;TZID=UTC:20211118T160000
DTSTAMP:20260425T074754
CREATED:20211011T183155Z
LAST-MODIFIED:20211011T183155Z
UID:15785-1637222400-1637251200@www.young-williams.org
SUMMARY:Shuttle@Concord Park
DESCRIPTION:
URL:https://www.young-williams.org/event/shuttleconcord-park-4-2/
LOCATION:TN
CATEGORIES:Spay Shuttle Calendar
END:VEVENT
BEGIN:VEVENT
DTSTART;TZID=UTC:20211119T080000
DTEND;TZID=UTC:20211119T160000
DTSTAMP:20260425T074754
CREATED:20211011T183248Z
LAST-MODIFIED:20211011T183248Z
UID:15786-1637308800-1637337600@www.young-williams.org
SUMMARY:Shuttle@Sam Duff Park
DESCRIPTION:
URL:https://www.young-williams.org/event/shuttlesam-duff-park-2-2/
LOCATION:TN
CATEGORIES:Spay Shuttle Calendar
END:VEVENT
BEGIN:VEVENT
DTSTART;TZID=UTC:20211120T110000
DTEND;TZID=UTC:20211120T150000
DTSTAMP:20260425T074754
CREATED:20211102T231726Z
LAST-MODIFIED:20211102T231726Z
UID:15794-1637406000-1637420400@www.young-williams.org
SUMMARY:PetCo Adoption Event – Farragut
DESCRIPTION:Ready to welcome the love of a pet into your home? We’re expanding our adoption partnership with PetCo to include the Farragut location!  PetCo is committed to matching wonderful\, adoptable pets with loving families. \nOur adoptable pets will be at PetCo Farragut on Saturday\,November 20\, from 11 – 3 for our next adoption event. Stop by to see our adoptable cats\, kittens and dogs. No appointment is necessary to meet the adoptable pets at this event. Adoption fees must be paid by credit card only: no cash accepted for adoption fees at this time. Please wear a mask and follow social distance guidelines while visiting with the animals. \nCan’t make it this month? We’re there the third Saturday of each month. Stop by\, say hi and adopt a new friend as part of our life-saving partnership with the Petco Love.
URL:https://www.young-williams.org/event/petco-adoption-event-farragut-9/
LOCATION:TN
CATEGORIES:Adoption Event,All Events
END:VEVENT
BEGIN:VEVENT
DTSTART;TZID=UTC:20211121T103000
DTEND;TZID=UTC:20211121T173000
DTSTAMP:20260425T074754
CREATED:20211103T004715Z
LAST-MODIFIED:20211103T004715Z
UID:15797-1637490600-1637515800@www.young-williams.org
SUMMARY:Drive-Through Dog Food Giveaway
DESCRIPTION:On Sunday\, November 21 we are hosting a Drive-Through Dog Food Giveaway! Young-Williams is thankful for a amazing partnership with Chewy and the Humane Society of the United States that allows us to help meet the needs of owned pets in our community. Thanks to a generous donation of dog food from Chewy\, we are able to give back and make sure no dog goes hungry this Thanksgiving. We are giving away dog food during a drive-through event on November 21 at our 3201 Division Street location. To ensure we’re able to meet the needs of everyone who arrives\, please pre-register.* Know of someone who could use some assistance with pet food? Help us spread the word and reach those who need it most! \n*Pre-registration is now closed. Please enter the parking lot behind the building from Division Street and exit to Sutherland Ave for smooth traffic flow. Thank you! \nNovember 21\, 2021\n10:30 am – 12:30 pm\n3:30 pm – 5:30 pm
URL:https://www.young-williams.org/event/drive-through-dog-food-giveaway/
LOCATION:TN
END:VEVENT
BEGIN:VEVENT
DTSTART;TZID=UTC:20211122T080000
DTEND;TZID=UTC:20211122T160000
DTSTAMP:20260425T074754
CREATED:20211011T183826Z
LAST-MODIFIED:20211011T183826Z
UID:15787-1637568000-1637596800@www.young-williams.org
SUMMARY:Shuttle @Karns Library
DESCRIPTION:
URL:https://www.young-williams.org/event/shuttle-karns-library-12/
LOCATION:TN
CATEGORIES:Spay Shuttle Calendar
END:VEVENT
BEGIN:VEVENT
DTSTART;TZID=UTC:20211123T080000
DTEND;TZID=UTC:20211123T170000
DTSTAMP:20260425T074754
CREATED:20211011T184205Z
LAST-MODIFIED:20211011T184205Z
UID:15788-1637654400-1637686800@www.young-williams.org
SUMMARY:Shuttle@New Harvest Park
DESCRIPTION:
URL:https://www.young-williams.org/event/shuttlenew-harvest-park-4-2/
LOCATION:TN
CATEGORIES:Spay Shuttle Calendar
END:VEVENT
BEGIN:VEVENT
DTSTART;VALUE=DATE:20211124
DTEND;VALUE=DATE:20211125
DTSTAMP:20260425T074754
CREATED:20211124T021257Z
LAST-MODIFIED:20211124T021257Z
UID:15812-1637712000-1637798399@www.young-williams.org
SUMMARY:Closing at 4pm for Thanksgiving Holiday
DESCRIPTION:Young-Williams Animal Center and Young-Williams Animal Village will be closing at 4pm on Wednesday\, November 24.
URL:https://www.young-williams.org/event/closing-at-4pm-for-thanksgiving-holiday/
LOCATION:TN
END:VEVENT
BEGIN:VEVENT
DTSTART;VALUE=DATE:20211125
DTEND;VALUE=DATE:20211126
DTSTAMP:20260425T074754
CREATED:20211124T021401Z
LAST-MODIFIED:20211124T021401Z
UID:15813-1637798400-1637884799@www.young-williams.org
SUMMARY:Closed for Thanksgiving
DESCRIPTION:Young-Williams Animal Center and Young-Williams Animal Village will be closed on Thursday\, November 25th in honor of the Thanksgiving Holiday.
URL:https://www.young-williams.org/event/closed-for-thanksgiving-holiday/
LOCATION:TN
END:VEVENT
BEGIN:VEVENT
DTSTART;TZID=UTC:20211126T100000
DTEND;TZID=UTC:20211126T180000
DTSTAMP:20260425T074754
CREATED:20211124T021755Z
LAST-MODIFIED:20211124T021755Z
UID:15814-1637920800-1637949600@www.young-williams.org
SUMMARY:Black Fur-iday Special
DESCRIPTION:Friday\, November 26\nBlack Fur-iday Adoption Special \nWaived-fee adoptions with a donation of any amount.\nFind your new best friend!
URL:https://www.young-williams.org/event/black-fur-iday-special/
LOCATION:TN
END:VEVENT
BEGIN:VEVENT
DTSTART;TZID=UTC:20211129T080000
DTEND;TZID=UTC:20211129T160000
DTSTAMP:20260425T074754
CREATED:20211011T184300Z
LAST-MODIFIED:20211011T184300Z
UID:15789-1638172800-1638201600@www.young-williams.org
SUMMARY:Shuttle@Milton Robert Park
DESCRIPTION:
URL:https://www.young-williams.org/event/shuttlemilton-robert-park/
LOCATION:TN
CATEGORIES:Spay Shuttle Calendar
END:VEVENT
BEGIN:VEVENT
DTSTART;VALUE=DATE:20211130
DTEND;VALUE=DATE:20211201
DTSTAMP:20260425T074754
CREATED:20211120T021055Z
LAST-MODIFIED:20211120T021055Z
UID:15810-1638230400-1638316799@www.young-williams.org
SUMMARY:The Big Give
DESCRIPTION:Amplify the good created on Giving Tuesday! What’s Giving Tuesday? This event is a celebration that piggybacks Thanksgiving\, Black Friday\, small business Saturday and Cyber Monday and is a global holiday that raises BILLIONS of dollars for charities around the world. Since 2015\, it’s really taken off and this day plays an important role in providing for the animals in the shelter. \nIn 2021\, Giving Tuesday falls on Nov. 30 and Young-Williams Animal Center is celebrating locally by participating in The Big Give. \nHere’s where you come in. We need your help to reach each of our three BIG give goals: \n1. Raise $10\,000 in donations \n2. Win the Closing Time Prize for raising the most money between 5:00 – 6:00 PM \n3. Win the Nouveau Riche Prize by being the organization with the most NEW donors on November 30. \nThe easiest way you can help us reach these goals is by becoming a fundraiser and asking your friends\, family and followers to support the cause you care about. Becoming a fundraiser is quick and easy. Visit our Big Give page here and click the black “FUNDRAISE” button. Here you’ll set up an account and your own personal fundraising page. Feel free to include a photo or story about why you love Young-Williams and why you’re asking others to give. Need some help with your page? Reach out to our fundraising team at donations@young-williams.org. \nLeading up to November 30\, share your fundraising page on social media\, talk about it at Thanksgiving Dinner or even post in a neighborhood group. Then\, on Tuesday November 30 it’s time to shine! Share your page all day long\, but don’t forget to encourage your friends and family to give during the 5:00 PM hour. \nThanks so much for helping us care for the nearly 10\,000 animals that come to us in need of shelter each year. Our mission can only be achieved with the support of our community of animal lovers\, like you!
URL:https://www.young-williams.org/event/big-give-21/
LOCATION:TN
CATEGORIES:Fundraiser
ATTACH;FMTTYPE=:
END:VEVENT
END:VCALENDAR