BEGIN:VCALENDAR
VERSION:2.0
PRODID:-//Young-Williams Animal Center - ECPv6.15.13.1//NONSGML v1.0//EN
CALSCALE:GREGORIAN
METHOD:PUBLISH
X-WR-CALNAME:Young-Williams Animal Center
X-ORIGINAL-URL:https://www.young-williams.org
X-WR-CALDESC:Events for Young-Williams Animal Center
REFRESH-INTERVAL;VALUE=DURATION:PT1H
X-Robots-Tag:noindex
X-PUBLISHED-TTL:PT1H
BEGIN:VTIMEZONE
TZID:America/New_York
BEGIN:DAYLIGHT
TZOFFSETFROM:-0500
TZOFFSETTO:-0400
TZNAME:EDT
DTSTART:20250309T070000
END:DAYLIGHT
BEGIN:STANDARD
TZOFFSETFROM:-0400
TZOFFSETTO:-0500
TZNAME:EST
DTSTART:20251102T060000
END:STANDARD
BEGIN:DAYLIGHT
TZOFFSETFROM:-0500
TZOFFSETTO:-0400
TZNAME:EDT
DTSTART:20260308T070000
END:DAYLIGHT
BEGIN:STANDARD
TZOFFSETFROM:-0400
TZOFFSETTO:-0500
TZNAME:EST
DTSTART:20261101T060000
END:STANDARD
BEGIN:DAYLIGHT
TZOFFSETFROM:-0500
TZOFFSETTO:-0400
TZNAME:EDT
DTSTART:20270314T070000
END:DAYLIGHT
BEGIN:STANDARD
TZOFFSETFROM:-0400
TZOFFSETTO:-0500
TZNAME:EST
DTSTART:20271107T060000
END:STANDARD
END:VTIMEZONE
BEGIN:VEVENT
DTSTART;TZID=America/New_York:20260420T080000
DTEND;TZID=America/New_York:20260420T163000
DTSTAMP:20260422T213642
CREATED:20260206T160146Z
LAST-MODIFIED:20260313T190402Z
UID:3694720-1776672000-1776702600@www.young-williams.org
SUMMARY:Spay/Neuter Event - Victor Ashe Park
DESCRIPTION:Spay/Neuter Event
URL:https://www.young-williams.org/event/victor-ashe-park-61/
LOCATION:Victor Ashe Park\, 4901 Bradshaw Road\, Knoxville\, TN\, 37912\, United States
CATEGORIES:Spay Shuttle Calendar
END:VEVENT
BEGIN:VEVENT
DTSTART;TZID=America/New_York:20260421T080000
DTEND;TZID=America/New_York:20260421T163000
DTSTAMP:20260422T213643
CREATED:20260206T160146Z
LAST-MODIFIED:20260313T190310Z
UID:3694721-1776758400-1776789000@www.young-williams.org
SUMMARY:Spay/Neuter Event - Shelter (Division St.)
DESCRIPTION:Spay/Neuter Event
URL:https://www.young-williams.org/event/shelter-division-st-7/
LOCATION:Shuttle@Shelter\, 3201 Division Street\, Knoxville\, TN\, 37919\, United States
CATEGORIES:Spay Shuttle Calendar
END:VEVENT
BEGIN:VEVENT
DTSTART;TZID=America/New_York:20260422T130000
DTEND;TZID=America/New_York:20260422T160000
DTSTAMP:20260422T213643
CREATED:20260206T160146Z
LAST-MODIFIED:20260417T143253Z
UID:3694722-1776862800-1776873600@www.young-williams.org
SUMMARY:FREE Vaccine Clinic - @Malcolm Martin Park
DESCRIPTION:Join us for a FREE\, first-come\, first-served drive-thru vaccine clinic. No appointment needed! Services will be provided while supplies last and will end promptly at 4 p.m. \nSERVICES OFFERED: \n\n\n\nDistemper/Parvo Vaccine for Dogs\nDistemper/Respiratory Vaccine for Cats\nBordetella Vaccine\nRabies Vaccine\nMicrochips\nSpay/Neuter vouchers available for Knox County residents\n\n\n\n*Note: Please do not arrive before 12 p.m. to avoid blocking access to the Mobile Meals Kitchen. \nWhile this event is free\, donations to support Young-Williams Animal Center are greatly appreciated and help us continue to provide lifesaving care to pets in our community. \nThis event is made possible thanks to the generous support of the Aslan Foundation and Petco Love.
URL:https://www.young-williams.org/event/vaccine-clinic-malcolm-martin-park/
LOCATION:Malcom Martin Park\, 2247 Western Ave\, Knoxville\, TN\, 37921\, United States
CATEGORIES:Spay Shuttle Calendar,Vaccine Clinic
END:VEVENT
BEGIN:VEVENT
DTSTART;TZID=America/New_York:20260423T080000
DTEND;TZID=America/New_York:20260423T163000
DTSTAMP:20260422T213643
CREATED:20260206T160146Z
LAST-MODIFIED:20260416T142147Z
UID:3694723-1776931200-1776961800@www.young-williams.org
SUMMARY:Spay/Neuter Event – Shelter (Division St.)
DESCRIPTION:Spay/Neuter Event
URL:https://www.young-williams.org/event/shelter-division-st-42326/
LOCATION:Shuttle@Shelter\, 3201 Division Street\, Knoxville\, TN\, 37919\, United States
CATEGORIES:Spay Shuttle Calendar
END:VEVENT
BEGIN:VEVENT
DTSTART;TZID=America/New_York:20260424T080000
DTEND;TZID=America/New_York:20260424T163000
DTSTAMP:20260422T213643
CREATED:20260206T160147Z
LAST-MODIFIED:20260313T185946Z
UID:3694724-1777017600-1777048200@www.young-williams.org
SUMMARY:Spay/Neuter Event - Tommy Schumpert Park
DESCRIPTION:Spay/Neuter Event
URL:https://www.young-williams.org/event/tommy-schumpert-park-3/
LOCATION:Tommy Schumpert Park\, 6400 Fountain City Road\, Knoxville\, 37918\, United States
CATEGORIES:Spay Shuttle Calendar
END:VEVENT
END:VCALENDAR