BEGIN:VCALENDAR
VERSION:2.0
PRODID:-//Young-Williams Animal Center - ECPv6.15.13.1//NONSGML v1.0//EN
CALSCALE:GREGORIAN
METHOD:PUBLISH
X-ORIGINAL-URL:https://www.young-williams.org
X-WR-CALDESC:Events for Young-Williams Animal Center
REFRESH-INTERVAL;VALUE=DURATION:PT1H
X-Robots-Tag:noindex
X-PUBLISHED-TTL:PT1H
BEGIN:VTIMEZONE
TZID:America/New_York
BEGIN:DAYLIGHT
TZOFFSETFROM:-0500
TZOFFSETTO:-0400
TZNAME:EDT
DTSTART:20240310T070000
END:DAYLIGHT
BEGIN:STANDARD
TZOFFSETFROM:-0400
TZOFFSETTO:-0500
TZNAME:EST
DTSTART:20241103T060000
END:STANDARD
BEGIN:DAYLIGHT
TZOFFSETFROM:-0500
TZOFFSETTO:-0400
TZNAME:EDT
DTSTART:20250309T070000
END:DAYLIGHT
BEGIN:STANDARD
TZOFFSETFROM:-0400
TZOFFSETTO:-0500
TZNAME:EST
DTSTART:20251102T060000
END:STANDARD
BEGIN:DAYLIGHT
TZOFFSETFROM:-0500
TZOFFSETTO:-0400
TZNAME:EDT
DTSTART:20260308T070000
END:DAYLIGHT
BEGIN:STANDARD
TZOFFSETFROM:-0400
TZOFFSETTO:-0500
TZNAME:EST
DTSTART:20261101T060000
END:STANDARD
END:VTIMEZONE
BEGIN:VEVENT
DTSTART;TZID=America/New_York:20251014T080000
DTEND;TZID=America/New_York:20251014T160000
DTSTAMP:20260422T181455
CREATED:20251002T145700Z
LAST-MODIFIED:20251002T145700Z
UID:3164730-1760428800-1760457600@www.young-williams.org
SUMMARY:Spay/Neuter Shuttle @ Young-Williams Animal Center
DESCRIPTION:
URL:https://www.young-williams.org/event/spay-neuter-shuttle-young-williams-animal-center-9/
LOCATION:Young-Williams Animal Center\, 3201 Division Street\, Knoxville\, TN\, 37919\, United States
CATEGORIES:All Events,Spay Shuttle Calendar
END:VEVENT
BEGIN:VEVENT
DTSTART;TZID=America/New_York:20251016T080000
DTEND;TZID=America/New_York:20251016T160000
DTSTAMP:20260422T181455
CREATED:20251002T145939Z
LAST-MODIFIED:20251002T145939Z
UID:3164742-1760601600-1760630400@www.young-williams.org
SUMMARY:Spay/Neuter Shuttle @ Karns Library
DESCRIPTION:
URL:https://www.young-williams.org/event/spay-neuter-shuttle-karns-library-3/
LOCATION:Karns Library\, 7516 Oak Ridge Hwy\, Knoville\, TN\, 37931\, United States
CATEGORIES:All Events,Spay Shuttle Calendar
END:VEVENT
BEGIN:VEVENT
DTSTART;TZID=America/New_York:20251017T080000
DTEND;TZID=America/New_York:20251017T160000
DTSTAMP:20260422T181455
CREATED:20251002T150131Z
LAST-MODIFIED:20251002T150132Z
UID:3164767-1760688000-1760716800@www.young-williams.org
SUMMARY:Spay/Neuter Shuttle @ Charter Doyle Park
DESCRIPTION:
URL:https://www.young-williams.org/event/spay-neuter-shuttle-charter-doyle-park-4/
LOCATION:Charter Doyle Park\, 5100 W Martin Mill Park\, Knoxville\, 37920\, United States
CATEGORIES:All Events,Spay Shuttle Calendar
END:VEVENT
END:VCALENDAR