BEGIN:VCALENDAR
VERSION:2.0
PRODID:-//Young-Williams Animal Center - ECPv6.15.13.1//NONSGML v1.0//EN
CALSCALE:GREGORIAN
METHOD:PUBLISH
X-WR-CALNAME:Young-Williams Animal Center
X-ORIGINAL-URL:https://www.young-williams.org
X-WR-CALDESC:Events for Young-Williams Animal Center
REFRESH-INTERVAL;VALUE=DURATION:PT1H
X-Robots-Tag:noindex
X-PUBLISHED-TTL:PT1H
BEGIN:VTIMEZONE
TZID:America/New_York
BEGIN:DAYLIGHT
TZOFFSETFROM:-0500
TZOFFSETTO:-0400
TZNAME:EDT
DTSTART:20240310T070000
END:DAYLIGHT
BEGIN:STANDARD
TZOFFSETFROM:-0400
TZOFFSETTO:-0500
TZNAME:EST
DTSTART:20241103T060000
END:STANDARD
BEGIN:DAYLIGHT
TZOFFSETFROM:-0500
TZOFFSETTO:-0400
TZNAME:EDT
DTSTART:20250309T070000
END:DAYLIGHT
BEGIN:STANDARD
TZOFFSETFROM:-0400
TZOFFSETTO:-0500
TZNAME:EST
DTSTART:20251102T060000
END:STANDARD
BEGIN:DAYLIGHT
TZOFFSETFROM:-0500
TZOFFSETTO:-0400
TZNAME:EDT
DTSTART:20260308T070000
END:DAYLIGHT
BEGIN:STANDARD
TZOFFSETFROM:-0400
TZOFFSETTO:-0500
TZNAME:EST
DTSTART:20261101T060000
END:STANDARD
END:VTIMEZONE
BEGIN:VEVENT
DTSTART;TZID=America/New_York:20250915T080000
DTEND;TZID=America/New_York:20250915T160000
DTSTAMP:20260422T084059
CREATED:20250828T200050Z
LAST-MODIFIED:20250828T200050Z
UID:2983563-1757923200-1757952000@www.young-williams.org
SUMMARY:Spay/Neuter Shuttle @ Fountain City Library
DESCRIPTION:
URL:https://www.young-williams.org/event/spay-neuter-shuttle-fountain-city-library-2/
LOCATION:Fountian City Library\, 5300 Stanton Road\, Knoxville\, TN\, 37918\, United States
CATEGORIES:All Events,Featured,Spay Shuttle Calendar
END:VEVENT
BEGIN:VEVENT
DTSTART;TZID=America/New_York:20250916T080000
DTEND;TZID=America/New_York:20250916T160000
DTSTAMP:20260422T084059
CREATED:20250828T200216Z
LAST-MODIFIED:20250828T200216Z
UID:2983569-1758009600-1758038400@www.young-williams.org
SUMMARY:Spay/Neuter Shuttle @ Young-Williams Animal Center
DESCRIPTION:
URL:https://www.young-williams.org/event/spay-neuter-shuttle-young-williams-animal-center-7/
LOCATION:Young-Williams Animal Center\, 3201 Division Street\, Knoxville\, TN\, 37919\, United States
CATEGORIES:All Events,Featured,Spay Shuttle Calendar
END:VEVENT
BEGIN:VEVENT
DTSTART;TZID=America/New_York:20250917T120000
DTEND;TZID=America/New_York:20250917T150000
DTSTAMP:20260422T084059
CREATED:20250812T204234Z
LAST-MODIFIED:20250825T153451Z
UID:2897937-1758110400-1758121200@www.young-williams.org
SUMMARY:Pet Vaccine Clinic - Tommy Schumpert Park
DESCRIPTION:
URL:https://www.young-williams.org/event/pet-vaccine-clinic/
LOCATION:Tommy Schumpert Park\, 6400 Fountain City Road\, Knoxville\, 37918\, United States
CATEGORIES:All Events,Spay Shuttle Calendar,Vaccine Clinic
END:VEVENT
BEGIN:VEVENT
DTSTART;TZID=America/New_York:20250918T080000
DTEND;TZID=America/New_York:20250918T160000
DTSTAMP:20260422T084059
CREATED:20250828T200309Z
LAST-MODIFIED:20250828T200310Z
UID:2983588-1758182400-1758211200@www.young-williams.org
SUMMARY:Spay/Neuter Shuttle @ Chilhowee Park
DESCRIPTION:
URL:https://www.young-williams.org/event/spay-neuter-shuttle-chilhowee-park/
LOCATION:Chilhowee Park\, 3301 East Magnolia Ave\, Knoxvill\, TN\, 37914\, United States
CATEGORIES:All Events,Featured,Spay Shuttle Calendar
END:VEVENT
BEGIN:VEVENT
DTSTART;TZID=America/New_York:20250919T080000
DTEND;TZID=America/New_York:20250919T160000
DTSTAMP:20260422T084059
CREATED:20250828T200409Z
LAST-MODIFIED:20250828T202021Z
UID:2983600-1758268800-1758297600@www.young-williams.org
SUMMARY:Spay/Neuter Shuttle @ Victor Ashe Park
DESCRIPTION:
URL:https://www.young-williams.org/event/spay-neuter-shuttle-victor-ashe-park-3/
LOCATION:Victor Ashe Park\, 4901 Bradshaw Road\, Knoxville\, TN\, 37912\, United States
CATEGORIES:All Events,Featured,Spay Shuttle Calendar
END:VEVENT
END:VCALENDAR