BEGIN:VCALENDAR
VERSION:2.0
PRODID:-//Young-Williams Animal Center - ECPv6.15.13.1//NONSGML v1.0//EN
CALSCALE:GREGORIAN
METHOD:PUBLISH
X-ORIGINAL-URL:https://www.young-williams.org
X-WR-CALDESC:Events for Young-Williams Animal Center
REFRESH-INTERVAL;VALUE=DURATION:PT1H
X-Robots-Tag:noindex
X-PUBLISHED-TTL:PT1H
BEGIN:VTIMEZONE
TZID:UTC
BEGIN:STANDARD
TZOFFSETFROM:+0000
TZOFFSETTO:+0000
TZNAME:UTC
DTSTART:20230101T000000
END:STANDARD
END:VTIMEZONE
BEGIN:VEVENT
DTSTART;TZID=UTC:20240805T080000
DTEND;TZID=UTC:20240805T160000
DTSTAMP:20260422T074434
CREATED:20240626T220326Z
LAST-MODIFIED:20240626T220355Z
UID:1016198-1722844800-1722873600@www.young-williams.org
SUMMARY:Shuttle @ Milton Roberts Park
DESCRIPTION:
URL:https://www.young-williams.org/event/shuttle-milton-roberts-park-25/
LOCATION:TN
CATEGORIES:Spay Shuttle Calendar
END:VEVENT
BEGIN:VEVENT
DTSTART;TZID=UTC:20240806T080000
DTEND;TZID=UTC:20240806T160000
DTSTAMP:20260422T074435
CREATED:20240626T220632Z
LAST-MODIFIED:20240626T220632Z
UID:1016293-1722931200-1722960000@www.young-williams.org
SUMMARY:Shuttle @ Fountain City Library
DESCRIPTION:
URL:https://www.young-williams.org/event/shuttle-fountain-city-library-31/
LOCATION:TN
CATEGORIES:Spay Shuttle Calendar
END:VEVENT
BEGIN:VEVENT
DTSTART;TZID=UTC:20240808T080000
DTEND;TZID=UTC:20240808T160000
DTSTAMP:20260422T074435
CREATED:20240626T221035Z
LAST-MODIFIED:20240626T221035Z
UID:1016300-1723104000-1723132800@www.young-williams.org
SUMMARY:Shuttle @ New Harvest
DESCRIPTION:
URL:https://www.young-williams.org/event/shuttle-new-harvest-20/
LOCATION:New Harvest Park\, 4775 New Harvest Lane\, Knoxville\, TN\, 37918\, United States
CATEGORIES:Spay Shuttle Calendar
END:VEVENT
BEGIN:VEVENT
DTSTART;TZID=UTC:20240809T080000
DTEND;TZID=UTC:20240809T160000
DTSTAMP:20260422T074435
CREATED:20240626T221142Z
LAST-MODIFIED:20240626T221142Z
UID:1016303-1723190400-1723219200@www.young-williams.org
SUMMARY:Shuttle @ Victor Ashe Park
DESCRIPTION:
URL:https://www.young-williams.org/event/shuttle-victor-ashe-park-46/
LOCATION:Victor Ashe Park\, 4901 Bradshaw Road\, Knoxville\, TN\, 37912\, United States
CATEGORIES:Spay Shuttle Calendar
END:VEVENT
END:VCALENDAR