BEGIN:VCALENDAR
VERSION:2.0
PRODID:-//Young-Williams Animal Center - ECPv6.15.13.1//NONSGML v1.0//EN
CALSCALE:GREGORIAN
METHOD:PUBLISH
X-ORIGINAL-URL:https://www.young-williams.org
X-WR-CALDESC:Events for Young-Williams Animal Center
REFRESH-INTERVAL;VALUE=DURATION:PT1H
X-Robots-Tag:noindex
X-PUBLISHED-TTL:PT1H
BEGIN:VTIMEZONE
TZID:UTC
BEGIN:STANDARD
TZOFFSETFROM:+0000
TZOFFSETTO:+0000
TZNAME:UTC
DTSTART:20230101T000000
END:STANDARD
END:VTIMEZONE
BEGIN:VEVENT
DTSTART;TZID=UTC:20240729T080000
DTEND;TZID=UTC:20240729T160000
DTSTAMP:20260420T063848
CREATED:20240619T215047Z
LAST-MODIFIED:20240619T215047Z
UID:992243-1722240000-1722268800@www.young-williams.org
SUMMARY:Shuttle @ Tommy Shumpert
DESCRIPTION:
URL:https://www.young-williams.org/event/shuttle-tommy-shumpert-7/
LOCATION:Tommy Schumpert Park\, 6400 Fountain City Road\, Knoxville\, 37918\, United States
CATEGORIES:Spay Shuttle Calendar
END:VEVENT
BEGIN:VEVENT
DTSTART;TZID=UTC:20240730T080000
DTEND;TZID=UTC:20240730T170000
DTSTAMP:20260420T063849
CREATED:20240619T215410Z
LAST-MODIFIED:20240619T215410Z
UID:992248-1722326400-1722358800@www.young-williams.org
SUMMARY:Shuttle @ Victor Ashe Park
DESCRIPTION:
URL:https://www.young-williams.org/event/shuttle-victor-ashe-park-45/
LOCATION:Victor Ashe Park\, 4901 Bradshaw Road\, Knoxville\, TN\, 37912\, United States
CATEGORIES:Spay Shuttle Calendar
END:VEVENT
BEGIN:VEVENT
DTSTART;TZID=UTC:20240801T080000
DTEND;TZID=UTC:20240801T160000
DTSTAMP:20260420T063849
CREATED:20240626T213548Z
LAST-MODIFIED:20240626T213548Z
UID:1016194-1722499200-1722528000@www.young-williams.org
SUMMARY:Shuttle @ Shelter
DESCRIPTION:
URL:https://www.young-williams.org/event/shuttle-shelter-61/
LOCATION:TN
CATEGORIES:Spay Shuttle Calendar
END:VEVENT
BEGIN:VEVENT
DTSTART;TZID=UTC:20240802T080000
DTEND;TZID=UTC:20240802T160000
DTSTAMP:20260420T063849
CREATED:20240626T213624Z
LAST-MODIFIED:20240626T213624Z
UID:1016197-1722585600-1722614400@www.young-williams.org
SUMMARY:Shuttel @ Sam Duff
DESCRIPTION:
URL:https://www.young-williams.org/event/shuttel-sam-duff/
LOCATION:Sam Duff Park\, 4060 Chapman Hwy\, Knoxville\, TN\, 37920\, United States
CATEGORIES:Spay Shuttle Calendar
END:VEVENT
END:VCALENDAR