BEGIN:VCALENDAR
VERSION:2.0
PRODID:-//Young-Williams Animal Center - ECPv6.15.13.1//NONSGML v1.0//EN
CALSCALE:GREGORIAN
METHOD:PUBLISH
X-ORIGINAL-URL:https://www.young-williams.org
X-WR-CALDESC:Events for Young-Williams Animal Center
REFRESH-INTERVAL;VALUE=DURATION:PT1H
X-Robots-Tag:noindex
X-PUBLISHED-TTL:PT1H
BEGIN:VTIMEZONE
TZID:UTC
BEGIN:STANDARD
TZOFFSETFROM:+0000
TZOFFSETTO:+0000
TZNAME:UTC
DTSTART:20220101T000000
END:STANDARD
END:VTIMEZONE
BEGIN:VEVENT
DTSTART;TZID=UTC:20230828T080000
DTEND;TZID=UTC:20230828T160000
DTSTAMP:20260422T163306
CREATED:20230720T192452Z
LAST-MODIFIED:20230720T192452Z
UID:17156-1693209600-1693238400@www.young-williams.org
SUMMARY:Shuttle @ Adair Park
DESCRIPTION:
URL:https://www.young-williams.org/event/shuttle-adair-park-37/
LOCATION:Adair Park\, 1807 Adair Drive\, Knoxville\, TN\, 37918\, United States
CATEGORIES:Spay Shuttle Calendar
END:VEVENT
BEGIN:VEVENT
DTSTART;TZID=UTC:20230829T080000
DTEND;TZID=UTC:20230829T160000
DTSTAMP:20260422T163306
CREATED:20230720T192534Z
LAST-MODIFIED:20230720T192534Z
UID:17157-1693296000-1693324800@www.young-williams.org
SUMMARY:Shuttle @ Milton Roberts Park
DESCRIPTION:
URL:https://www.young-williams.org/event/shuttle-milton-roberts-park-16/
LOCATION:Milton Roberts Park\, 5900 Asheville Hwy\, Knoxville\, TN\, 37924\, United States
CATEGORIES:Spay Shuttle Calendar
END:VEVENT
BEGIN:VEVENT
DTSTART;TZID=UTC:20230831T080000
DTEND;TZID=UTC:20230831T160000
DTSTAMP:20260422T163306
CREATED:20230720T192611Z
LAST-MODIFIED:20230720T192611Z
UID:17158-1693468800-1693497600@www.young-williams.org
SUMMARY:Shuttle @ Concord Park
DESCRIPTION:
URL:https://www.young-williams.org/event/shuttle-concord-park-28/
LOCATION:Concord Park\, 10960 Concord Park Dr\, Knoxville\, 37922\, United States
CATEGORIES:Spay Shuttle Calendar
END:VEVENT
BEGIN:VEVENT
DTSTART;TZID=UTC:20230901T080000
DTEND;TZID=UTC:20230901T160000
DTSTAMP:20260422T163306
CREATED:20230811T184639Z
LAST-MODIFIED:20230811T184639Z
UID:17177-1693555200-1693584000@www.young-williams.org
SUMMARY:Shuttle@ Victor Ashe Park
DESCRIPTION:
URL:https://www.young-williams.org/event/shuttle-victor-ashe-park-39/
LOCATION:Victor Ashe Park\, 4901 Bradshaw Road\, Knoxville\, TN\, 37912\, United States
CATEGORIES:Spay Shuttle Calendar
END:VEVENT
END:VCALENDAR