BEGIN:VCALENDAR
VERSION:2.0
PRODID:-//Young-Williams Animal Center - ECPv6.15.13.1//NONSGML v1.0//EN
CALSCALE:GREGORIAN
METHOD:PUBLISH
X-ORIGINAL-URL:https://www.young-williams.org
X-WR-CALDESC:Events for Young-Williams Animal Center
REFRESH-INTERVAL;VALUE=DURATION:PT1H
X-Robots-Tag:noindex
X-PUBLISHED-TTL:PT1H
BEGIN:VTIMEZONE
TZID:UTC
BEGIN:STANDARD
TZOFFSETFROM:+0000
TZOFFSETTO:+0000
TZNAME:UTC
DTSTART:20220101T000000
END:STANDARD
END:VTIMEZONE
BEGIN:VEVENT
DTSTART;TZID=UTC:20230626T080000
DTEND;TZID=UTC:20230626T160000
DTSTAMP:20260421T055412
CREATED:20230613T230057Z
LAST-MODIFIED:20230613T230057Z
UID:17101-1687766400-1687795200@www.young-williams.org
SUMMARY:Shuttle @ Shelter
DESCRIPTION:
URL:https://www.young-williams.org/event/shuttle-shelter-39/
LOCATION:TN
CATEGORIES:Spay Shuttle Calendar
END:VEVENT
BEGIN:VEVENT
DTSTART;TZID=UTC:20230627T080000
DTEND;TZID=UTC:20230627T160000
DTSTAMP:20260421T055412
CREATED:20230613T230236Z
LAST-MODIFIED:20230613T230236Z
UID:17102-1687852800-1687881600@www.young-williams.org
SUMMARY:Shuttle @ Clayton Park
DESCRIPTION:
URL:https://www.young-williams.org/event/shuttle-clayton-park-27/
LOCATION:Clayton Park\, 7347 Norris Freeway\, Knoxville\, TN\, 37918\, United States
CATEGORIES:Spay Shuttle Calendar
END:VEVENT
BEGIN:VEVENT
DTSTART;TZID=UTC:20230628T080000
DTEND;TZID=UTC:20230628T160000
DTSTAMP:20260421T055412
CREATED:20230613T230322Z
LAST-MODIFIED:20230613T231429Z
UID:17103-1687939200-1687968000@www.young-williams.org
SUMMARY:Shuttle @ Concord Park
DESCRIPTION:
URL:https://www.young-williams.org/event/shuttle-concord-park-25/
LOCATION:Concord Park\, 10960 Concord Park Dr\, Knoxville\, 37922\, United States
CATEGORIES:Spay Shuttle Calendar
END:VEVENT
BEGIN:VEVENT
DTSTART;TZID=UTC:20230630T080000
DTEND;TZID=UTC:20230630T160000
DTSTAMP:20260421T055412
CREATED:20230613T230455Z
LAST-MODIFIED:20230613T230455Z
UID:17104-1688112000-1688140800@www.young-williams.org
SUMMARY:Shuttle @ New Harvest Park
DESCRIPTION:
URL:https://www.young-williams.org/event/shuttle-new-harvest-park-27/
LOCATION:New Harvest Park\, 4775 New Harvest Lane\, Knoxville\, TN\, 37918\, United States
CATEGORIES:Spay Shuttle Calendar
END:VEVENT
END:VCALENDAR