BEGIN:VCALENDAR
VERSION:2.0
PRODID:-//Young-Williams Animal Center - ECPv6.15.13.1//NONSGML v1.0//EN
CALSCALE:GREGORIAN
METHOD:PUBLISH
X-ORIGINAL-URL:https://www.young-williams.org
X-WR-CALDESC:Events for Young-Williams Animal Center
REFRESH-INTERVAL;VALUE=DURATION:PT1H
X-Robots-Tag:noindex
X-PUBLISHED-TTL:PT1H
BEGIN:VTIMEZONE
TZID:America/New_York
BEGIN:DAYLIGHT
TZOFFSETFROM:-0500
TZOFFSETTO:-0400
TZNAME:EDT
DTSTART:20250309T070000
END:DAYLIGHT
BEGIN:STANDARD
TZOFFSETFROM:-0400
TZOFFSETTO:-0500
TZNAME:EST
DTSTART:20251102T060000
END:STANDARD
BEGIN:DAYLIGHT
TZOFFSETFROM:-0500
TZOFFSETTO:-0400
TZNAME:EDT
DTSTART:20260308T070000
END:DAYLIGHT
BEGIN:STANDARD
TZOFFSETFROM:-0400
TZOFFSETTO:-0500
TZNAME:EST
DTSTART:20261101T060000
END:STANDARD
BEGIN:DAYLIGHT
TZOFFSETFROM:-0500
TZOFFSETTO:-0400
TZNAME:EDT
DTSTART:20270314T070000
END:DAYLIGHT
BEGIN:STANDARD
TZOFFSETFROM:-0400
TZOFFSETTO:-0500
TZNAME:EST
DTSTART:20271107T060000
END:STANDARD
END:VTIMEZONE
BEGIN:VEVENT
DTSTART;TZID=America/New_York:20260422T130000
DTEND;TZID=America/New_York:20260422T160000
DTSTAMP:20260422T185636
CREATED:20260206T160146Z
LAST-MODIFIED:20260417T143253Z
UID:3694722-1776862800-1776873600@www.young-williams.org
SUMMARY:FREE Vaccine Clinic - @Malcolm Martin Park
DESCRIPTION:Join us for a FREE\, first-come\, first-served drive-thru vaccine clinic. No appointment needed! Services will be provided while supplies last and will end promptly at 4 p.m. \nSERVICES OFFERED: \n\n\n\nDistemper/Parvo Vaccine for Dogs\nDistemper/Respiratory Vaccine for Cats\nBordetella Vaccine\nRabies Vaccine\nMicrochips\nSpay/Neuter vouchers available for Knox County residents\n\n\n\n*Note: Please do not arrive before 12 p.m. to avoid blocking access to the Mobile Meals Kitchen. \nWhile this event is free\, donations to support Young-Williams Animal Center are greatly appreciated and help us continue to provide lifesaving care to pets in our community. \nThis event is made possible thanks to the generous support of the Aslan Foundation and Petco Love.
URL:https://www.young-williams.org/event/vaccine-clinic-malcolm-martin-park/
LOCATION:Malcom Martin Park\, 2247 Western Ave\, Knoxville\, TN\, 37921\, United States
CATEGORIES:Spay Shuttle Calendar,Vaccine Clinic
END:VEVENT
END:VCALENDAR