BEGIN:VCALENDAR
VERSION:2.0
PRODID:-//Young-Williams Animal Center - ECPv6.15.13.1//NONSGML v1.0//EN
CALSCALE:GREGORIAN
METHOD:PUBLISH
X-ORIGINAL-URL:https://www.young-williams.org
X-WR-CALDESC:Events for Young-Williams Animal Center
REFRESH-INTERVAL;VALUE=DURATION:PT1H
X-Robots-Tag:noindex
X-PUBLISHED-TTL:PT1H
BEGIN:VTIMEZONE
TZID:America/New_York
BEGIN:DAYLIGHT
TZOFFSETFROM:-0500
TZOFFSETTO:-0400
TZNAME:EDT
DTSTART:20250309T070000
END:DAYLIGHT
BEGIN:STANDARD
TZOFFSETFROM:-0400
TZOFFSETTO:-0500
TZNAME:EST
DTSTART:20251102T060000
END:STANDARD
BEGIN:DAYLIGHT
TZOFFSETFROM:-0500
TZOFFSETTO:-0400
TZNAME:EDT
DTSTART:20260308T070000
END:DAYLIGHT
BEGIN:STANDARD
TZOFFSETFROM:-0400
TZOFFSETTO:-0500
TZNAME:EST
DTSTART:20261101T060000
END:STANDARD
BEGIN:DAYLIGHT
TZOFFSETFROM:-0500
TZOFFSETTO:-0400
TZNAME:EDT
DTSTART:20270314T070000
END:DAYLIGHT
BEGIN:STANDARD
TZOFFSETFROM:-0400
TZOFFSETTO:-0500
TZNAME:EST
DTSTART:20271107T060000
END:STANDARD
END:VTIMEZONE
BEGIN:VEVENT
DTSTART;TZID=America/New_York:20260427T080000
DTEND;TZID=America/New_York:20260427T163000
DTSTAMP:20260422T215717
CREATED:20260206T160147Z
LAST-MODIFIED:20260313T185828Z
UID:3694725-1777276800-1777307400@www.young-williams.org
SUMMARY:Spay/Neuter Event - Shelter (Division St.)
DESCRIPTION:Spay/Neuter Event
URL:https://www.young-williams.org/event/shelter-division-st-8/
LOCATION:Shuttle@Shelter\, 3201 Division Street\, Knoxville\, TN\, 37919\, United States
CATEGORIES:Spay Shuttle Calendar
END:VEVENT
BEGIN:VEVENT
DTSTART;TZID=America/New_York:20260428T080000
DTEND;TZID=America/New_York:20260428T163000
DTSTAMP:20260422T215718
CREATED:20260206T160147Z
LAST-MODIFIED:20260313T185645Z
UID:3694726-1777363200-1777393800@www.young-williams.org
SUMMARY:Spay/Neuter Event - Shelter (Division St.)
DESCRIPTION:Spay/Neuter Event
URL:https://www.young-williams.org/event/shelter-division-st-9/
LOCATION:Shuttle@Shelter\, 3201 Division Street\, Knoxville\, TN\, 37919\, United States
CATEGORIES:Spay Shuttle Calendar
END:VEVENT
BEGIN:VEVENT
DTSTART;TZID=America/New_York:20260430T080000
DTEND;TZID=America/New_York:20260430T163000
DTSTAMP:20260422T215718
CREATED:20260206T160147Z
LAST-MODIFIED:20260313T185113Z
UID:3694727-1777536000-1777566600@www.young-williams.org
SUMMARY:Spay/Neuter Event - Charter Doyle Park
DESCRIPTION:Spay/Neuter Event
URL:https://www.young-williams.org/event/charter-doyle-park-36/
LOCATION:Charter Doyle Park\, 5100 W Martin Mill Park\, Knoxville\, 37920\, United States
CATEGORIES:Spay Shuttle Calendar
END:VEVENT
BEGIN:VEVENT
DTSTART;TZID=America/New_York:20260501T080000
DTEND;TZID=America/New_York:20260501T163000
DTSTAMP:20260422T215718
CREATED:20260416T174503Z
LAST-MODIFIED:20260416T174523Z
UID:3976278-1777622400-1777653000@www.young-williams.org
SUMMARY:Spay/Neuter Event - Kroger at Northshore & Pellissippi
DESCRIPTION:Spay/Neuter Event
URL:https://www.young-williams.org/event/kroger-at-northshore-pellissippi-5126/
CATEGORIES:All Events,Spay Shuttle Calendar
END:VEVENT
BEGIN:VEVENT
DTSTART;TZID=America/New_York:20260504T080000
DTEND;TZID=America/New_York:20260504T163000
DTSTAMP:20260422T215718
CREATED:20260416T174043Z
LAST-MODIFIED:20260416T175752Z
UID:3976221-1777881600-1777912200@www.young-williams.org
SUMMARY:Spay/Neuter Event - New Harvest Park
DESCRIPTION:Spay/Neuter Event
URL:https://www.young-williams.org/event/new-harvest-park-5426/
LOCATION:New Harvest Park\, 4775 New Harvest Lane\, Knoxville\, TN\, 37918\, United States
CATEGORIES:All Events,Spay Shuttle Calendar
END:VEVENT
BEGIN:VEVENT
DTSTART;TZID=America/New_York:20260505T080000
DTEND;TZID=America/New_York:20260505T163000
DTSTAMP:20260422T215718
CREATED:20260206T160147Z
LAST-MODIFIED:20260416T162031Z
UID:3694728-1777968000-1777998600@www.young-williams.org
SUMMARY:Spay/Neuter Event - Karns Library
DESCRIPTION:Spay/Neuter Event
URL:https://www.young-williams.org/event/karns-library-5526/
LOCATION:Karns Library\, 7516 Oak Ridge Hwy\, Knoville\, TN\, 37931\, United States
CATEGORIES:Spay Shuttle Calendar
END:VEVENT
BEGIN:VEVENT
DTSTART;TZID=America/New_York:20260508T080000
DTEND;TZID=America/New_York:20260508T163000
DTSTAMP:20260422T215718
CREATED:20260206T160147Z
LAST-MODIFIED:20260313T192243Z
UID:3694729-1778227200-1778257800@www.young-williams.org
SUMMARY:Spay/Neuter Event - Fountain City Library
DESCRIPTION:Spay/Neuter Event
URL:https://www.young-williams.org/event/fountain-city-library-34/
LOCATION:Fountian City Library\, 5300 Stanton Road\, Knoxville\, TN\, 37918\, United States
CATEGORIES:Spay Shuttle Calendar
END:VEVENT
BEGIN:VEVENT
DTSTART;TZID=America/New_York:20260511T080000
DTEND;TZID=America/New_York:20260511T163000
DTSTAMP:20260422T215718
CREATED:20260206T160147Z
LAST-MODIFIED:20260313T192325Z
UID:3694730-1778486400-1778517000@www.young-williams.org
SUMMARY:Spay/Neuter Event - Milton Roberts Park
DESCRIPTION:Spay/Neuter Event
URL:https://www.young-williams.org/event/milton-roberts-park-23/
LOCATION:Milton Roberts Park\, 5900 Asheville Hwy\, Knoxville\, TN\, 37924\, United States
CATEGORIES:Spay Shuttle Calendar
END:VEVENT
BEGIN:VEVENT
DTSTART;TZID=America/New_York:20260512T080000
DTEND;TZID=America/New_York:20260512T163000
DTSTAMP:20260422T215718
CREATED:20260206T160148Z
LAST-MODIFIED:20260416T162330Z
UID:3694731-1778572800-1778603400@www.young-williams.org
SUMMARY:Spay/Neuter Event - Shelter (Division St.)
DESCRIPTION:Spay/Neuter Event
URL:https://www.young-williams.org/event/shelter-division-st-51226/
LOCATION:Shuttle@Shelter\, 3201 Division Street\, Knoxville\, TN\, 37919\, United States
CATEGORIES:Spay Shuttle Calendar
END:VEVENT
BEGIN:VEVENT
DTSTART;TZID=America/New_York:20260513T130000
DTEND;TZID=America/New_York:20260513T160000
DTSTAMP:20260422T215718
CREATED:20260206T160148Z
LAST-MODIFIED:20260413T161304Z
UID:3694732-1778677200-1778688000@www.young-williams.org
SUMMARY:Vaccine Clinic - @Sam Duff Park
DESCRIPTION:No appointment required.
URL:https://www.young-williams.org/event/vaccine-clinic-sam-duff-park/
LOCATION:Sam Duff Park\, 4060 Chapman Hwy\, Knoxville\, TN\, 37920\, United States
CATEGORIES:Spay Shuttle Calendar
END:VEVENT
BEGIN:VEVENT
DTSTART;TZID=America/New_York:20260514T080000
DTEND;TZID=America/New_York:20260514T163000
DTSTAMP:20260422T215718
CREATED:20260206T160148Z
LAST-MODIFIED:20260313T192923Z
UID:3694733-1778745600-1778776200@www.young-williams.org
SUMMARY:Spay/Neuter Event - Adair Park
DESCRIPTION:Spay/Neuter Event
URL:https://www.young-williams.org/event/adair-park-51/
LOCATION:Adair Park\, 1807 Adair Drive\, Knoxville\, TN\, 37918\, United States
CATEGORIES:Spay Shuttle Calendar
END:VEVENT
BEGIN:VEVENT
DTSTART;TZID=America/New_York:20260515T080000
DTEND;TZID=America/New_York:20260515T163000
DTSTAMP:20260422T215718
CREATED:20260206T160148Z
LAST-MODIFIED:20260313T201152Z
UID:3694734-1778832000-1778862600@www.young-williams.org
SUMMARY:Spay/Neuter Event - Victor Ashe Park
DESCRIPTION:Spay/Neuter Event
URL:https://www.young-williams.org/event/victor-ashe-park-62/
LOCATION:Victor Ashe Park\, 4901 Bradshaw Road\, Knoxville\, TN\, 37912\, United States
CATEGORIES:Spay Shuttle Calendar
END:VEVENT
BEGIN:VEVENT
DTSTART;TZID=America/New_York:20260519T080000
DTEND;TZID=America/New_York:20260519T163000
DTSTAMP:20260422T215718
CREATED:20260206T160148Z
LAST-MODIFIED:20260416T162504Z
UID:3694736-1779177600-1779208200@www.young-williams.org
SUMMARY:Spay/Neuter Event - Charter Doyle Park
DESCRIPTION:Spay/Neuter Event
URL:https://www.young-williams.org/event/charter-doyle-park-51926/
LOCATION:Charter Doyle Park\, 5100 W Martin Mill Park\, Knoxville\, 37920\, United States
CATEGORIES:All Events,Spay Shuttle Calendar
END:VEVENT
BEGIN:VEVENT
DTSTART;TZID=America/New_York:20260521T080000
DTEND;TZID=America/New_York:20260521T163000
DTSTAMP:20260422T215718
CREATED:20260416T173914Z
LAST-MODIFIED:20260416T173940Z
UID:3976200-1779350400-1779381000@www.young-williams.org
SUMMARY:Spay/Neuter Event - Fountain City Library
DESCRIPTION:Spay/Neuter Event
URL:https://www.young-williams.org/event/fountain-city-library-52126/
LOCATION:Fountian City Library\, 5300 Stanton Road\, Knoxville\, TN\, 37918\, United States
CATEGORIES:All Events,Spay Shuttle Calendar
END:VEVENT
BEGIN:VEVENT
DTSTART;TZID=America/New_York:20260522T080000
DTEND;TZID=America/New_York:20260522T163000
DTSTAMP:20260422T215718
CREATED:20260206T160148Z
LAST-MODIFIED:20260313T202825Z
UID:3694737-1779436800-1779467400@www.young-williams.org
SUMMARY:Spay/Neuter Event - Chilhowee Park
DESCRIPTION:Spay/Neuter Event
URL:https://www.young-williams.org/event/chilhowee-park-56/
LOCATION:Chilhowee Park\, 3301 East Magnolia Ave\, Knoxvill\, TN\, 37914\, United States
CATEGORIES:Spay Shuttle Calendar
END:VEVENT
BEGIN:VEVENT
DTSTART;TZID=America/New_York:20260526T080000
DTEND;TZID=America/New_York:20260526T163000
DTSTAMP:20260422T215718
CREATED:20260206T160148Z
LAST-MODIFIED:20260416T162703Z
UID:3694739-1779782400-1779813000@www.young-williams.org
SUMMARY:Spay/Neuter Event - Shelter (Division St.)
DESCRIPTION:Spay/Neuter Event
URL:https://www.young-williams.org/event/shelter-division-st-52626/
LOCATION:Shuttle@Shelter\, 3201 Division Street\, Knoxville\, TN\, 37919\, United States
CATEGORIES:All Events,Spay Shuttle Calendar
END:VEVENT
BEGIN:VEVENT
DTSTART;TZID=America/New_York:20260528T080000
DTEND;TZID=America/New_York:20260528T163000
DTSTAMP:20260422T215718
CREATED:20260206T160148Z
LAST-MODIFIED:20260416T172918Z
UID:3694740-1779955200-1779985800@www.young-williams.org
SUMMARY:Spay/Neuter Event - Gibbs Ruritan Park
DESCRIPTION:Spay/Neuter Event
URL:https://www.young-williams.org/event/gibbs-ruritan-park-52826/
LOCATION:Gibbs Ruritan Park\, 7827 Tazewell Pike\, Corryton\, TN\, 37721
CATEGORIES:Spay Shuttle Calendar
END:VEVENT
BEGIN:VEVENT
DTSTART;TZID=America/New_York:20260529T080000
DTEND;TZID=America/New_York:20260529T163000
DTSTAMP:20260422T215718
CREATED:20260206T160149Z
LAST-MODIFIED:20260313T204139Z
UID:3694741-1780041600-1780072200@www.young-williams.org
SUMMARY:Spay/Neuter Event - Tommy Schumpert Park
DESCRIPTION:Spay/Neuter Event
URL:https://www.young-williams.org/event/tommy-schumpert-park-4/
LOCATION:Tommy Schumpert Park\, 6400 Fountain City Road\, Knoxville\, 37918\, United States
CATEGORIES:Spay Shuttle Calendar
END:VEVENT
BEGIN:VEVENT
DTSTART;TZID=America/New_York:20260601T080000
DTEND;TZID=America/New_York:20260601T163000
DTSTAMP:20260422T215718
CREATED:20260416T173057Z
LAST-MODIFIED:20260416T173122Z
UID:3976145-1780300800-1780331400@www.young-williams.org
SUMMARY:Spay/Neuter Event - Karns Library
DESCRIPTION:Spay/Neuter Event
URL:https://www.young-williams.org/event/karns-library-6126/
LOCATION:Karns Library\, 7516 Oak Ridge Hwy\, Knoville\, TN\, 37931\, United States
CATEGORIES:All Events,Spay Shuttle Calendar
END:VEVENT
BEGIN:VEVENT
DTSTART;TZID=America/New_York:20260602T080000
DTEND;TZID=America/New_York:20260602T163000
DTSTAMP:20260422T215718
CREATED:20260416T173208Z
LAST-MODIFIED:20260416T173219Z
UID:3976156-1780387200-1780417800@www.young-williams.org
SUMMARY:Spay/Neuter Event - Shelter (Division St.)
DESCRIPTION:Spay/Neuter Event
URL:https://www.young-williams.org/event/shelter-division-st-6226/
LOCATION:Shuttle@Shelter\, 3201 Division Street\, Knoxville\, TN\, 37919\, United States
CATEGORIES:All Events,Spay Shuttle Calendar
END:VEVENT
BEGIN:VEVENT
DTSTART;TZID=America/New_York:20260604T080000
DTEND;TZID=America/New_York:20260604T163000
DTSTAMP:20260422T215718
CREATED:20260206T160148Z
LAST-MODIFIED:20260416T173320Z
UID:3694735-1780560000-1780590600@www.young-williams.org
SUMMARY:Spay/Neuter Event - (KCHD) Knox County Health Dept.
DESCRIPTION:Spay/Neuter Event
URL:https://www.young-williams.org/event/kchd-knox-county-health-dept-6426/
LOCATION:Knox County Health Department\, 140 Dameron Ave\, Knoxville\, TN\, 37917\, United States
CATEGORIES:All Events,Spay Shuttle Calendar
END:VEVENT
BEGIN:VEVENT
DTSTART;TZID=America/New_York:20260605T080000
DTEND;TZID=America/New_York:20260605T163000
DTSTAMP:20260422T215718
CREATED:20251002T145558Z
LAST-MODIFIED:20260416T175811Z
UID:3164728-1780646400-1780677000@www.young-williams.org
SUMMARY:Spay/Neuter Event - New Harvest Park
DESCRIPTION:Spay/Neuter Event
URL:https://www.young-williams.org/event/new-harvest-park-6526/
LOCATION:New Harvest Park\, 4775 New Harvest Lane\, Knoxville\, TN\, 37918\, United States
CATEGORIES:All Events,Spay Shuttle Calendar
END:VEVENT
BEGIN:VEVENT
DTSTART;TZID=America/New_York:20260618T080000
DTEND;TZID=America/New_York:20260618T163000
DTSTAMP:20260422T215718
CREATED:20260416T175339Z
LAST-MODIFIED:20260416T175352Z
UID:3976313-1781769600-1781800200@www.young-williams.org
SUMMARY:Spay/Neuter Event - (KCHD) Knox County Health Dept.
DESCRIPTION:Spay/Neuter Event
URL:https://www.young-williams.org/event/kchd-knox-county-health-dept-51826/
LOCATION:Knox County Health Department\, 140 Dameron Ave\, Knoxville\, TN\, 37917\, United States
CATEGORIES:All Events,Spay Shuttle Calendar
END:VEVENT
BEGIN:VEVENT
DTSTART;TZID=America/New_York:20260718T130000
DTEND;TZID=America/New_York:20260718T160000
DTSTAMP:20260422T215718
CREATED:20260413T162013Z
LAST-MODIFIED:20260413T162047Z
UID:3962931-1784379600-1784390400@www.young-williams.org
SUMMARY:Vaccine Clinic - @Victor Ashe Park
DESCRIPTION:No appointment required.
URL:https://www.young-williams.org/event/vaccine-clinic-victor-ashe-park/
LOCATION:Victor Ashe Park\, 4901 Bradshaw Road\, Knoxville\, TN\, 37912\, United States
CATEGORIES:All Events,Spay Shuttle Calendar
END:VEVENT
BEGIN:VEVENT
DTSTART;TZID=America/New_York:20260923T130000
DTEND;TZID=America/New_York:20260923T160000
DTSTAMP:20260422T215718
CREATED:20260413T162122Z
LAST-MODIFIED:20260413T162301Z
UID:3962934-1790168400-1790179200@www.young-williams.org
SUMMARY:Vaccine Clinic - @Tommy Schumpert Park
DESCRIPTION:No appointment required.
URL:https://www.young-williams.org/event/vaccine-clinic-tommy-schumpert-park/
LOCATION:Tommy Schumpert Park\, 6400 Fountain City Road\, Knoxville\, 37918\, United States
CATEGORIES:All Events,Spay Shuttle Calendar
END:VEVENT
BEGIN:VEVENT
DTSTART;TZID=America/New_York:20261021T130000
DTEND;TZID=America/New_York:20261021T160000
DTSTAMP:20260422T215718
CREATED:20260413T162336Z
LAST-MODIFIED:20260413T162547Z
UID:3962944-1792587600-1792598400@www.young-williams.org
SUMMARY:Vaccine Clinic - @Knox County Health Department
DESCRIPTION:No appointment required.
URL:https://www.young-williams.org/event/vaccine-knox-county-health-department/
LOCATION:Knox County Health Department\, 140 Dameron Ave\, Knoxville\, TN\, 37917\, United States
CATEGORIES:All Events,Spay Shuttle Calendar
END:VEVENT
BEGIN:VEVENT
DTSTART;TZID=America/New_York:20261111T130000
DTEND;TZID=America/New_York:20261111T160000
DTSTAMP:20260422T215718
CREATED:20260413T162610Z
LAST-MODIFIED:20260413T162659Z
UID:3962956-1794402000-1794412800@www.young-williams.org
SUMMARY:Vaccine Clinic - @Chilhowee Park
DESCRIPTION:No appointment required.
URL:https://www.young-williams.org/event/vaccine-chilhowee-park/
LOCATION:Knox County Health Department\, 140 Dameron Ave\, Knoxville\, TN\, 37917\, United States
CATEGORIES:All Events,Spay Shuttle Calendar
END:VEVENT
END:VCALENDAR