BEGIN:VCALENDAR
VERSION:2.0
PRODID:-//Young-Williams Animal Center - ECPv6.15.13.1//NONSGML v1.0//EN
CALSCALE:GREGORIAN
METHOD:PUBLISH
X-WR-CALNAME:Young-Williams Animal Center
X-ORIGINAL-URL:https://www.young-williams.org
X-WR-CALDESC:Events for Young-Williams Animal Center
REFRESH-INTERVAL;VALUE=DURATION:PT1H
X-Robots-Tag:noindex
X-PUBLISHED-TTL:PT1H
BEGIN:VTIMEZONE
TZID:America/New_York
BEGIN:DAYLIGHT
TZOFFSETFROM:-0500
TZOFFSETTO:-0400
TZNAME:EDT
DTSTART:20240310T070000
END:DAYLIGHT
BEGIN:STANDARD
TZOFFSETFROM:-0400
TZOFFSETTO:-0500
TZNAME:EST
DTSTART:20241103T060000
END:STANDARD
BEGIN:DAYLIGHT
TZOFFSETFROM:-0500
TZOFFSETTO:-0400
TZNAME:EDT
DTSTART:20250309T070000
END:DAYLIGHT
BEGIN:STANDARD
TZOFFSETFROM:-0400
TZOFFSETTO:-0500
TZNAME:EST
DTSTART:20251102T060000
END:STANDARD
BEGIN:DAYLIGHT
TZOFFSETFROM:-0500
TZOFFSETTO:-0400
TZNAME:EDT
DTSTART:20260308T070000
END:DAYLIGHT
BEGIN:STANDARD
TZOFFSETFROM:-0400
TZOFFSETTO:-0500
TZNAME:EST
DTSTART:20261101T060000
END:STANDARD
END:VTIMEZONE
BEGIN:VEVENT
DTSTART;TZID=America/New_York:20251103T080000
DTEND;TZID=America/New_York:20251103T163000
DTSTAMP:20260422T194856
CREATED:20251112T134717Z
LAST-MODIFIED:20251119T143019Z
UID:3353165-1762156800-1762187400@www.young-williams.org
SUMMARY:Spay/Neuter Shuttle @ Clayton Park
DESCRIPTION:Drop Off for dogs is 8:00 AM and Pickup is 4:00 PM. Drop Off for cats is 8:30 AM and Pickup is 4:30 PM.
URL:https://www.young-williams.org/event/spay-neuter-shuttle-clayton-park-3/
LOCATION:Clayton Park\, 7347 Norris Freeway\, Knoxville\, TN\, 37918\, United States
CATEGORIES:Spay Shuttle Calendar
END:VEVENT
BEGIN:VEVENT
DTSTART;TZID=America/New_York:20251104T080000
DTEND;TZID=America/New_York:20251104T163000
DTSTAMP:20260422T194856
CREATED:20251112T134819Z
LAST-MODIFIED:20251119T143025Z
UID:3353167-1762243200-1762273800@www.young-williams.org
SUMMARY:Spay/Neuter Shuttle @ Victor Ashe Park
DESCRIPTION:Drop Off for dogs is 8:00 AM and Pickup is 4:00 PM. Drop Off for cats is 8:30 AM and Pickup is 4:30 PM.
URL:https://www.young-williams.org/event/spay-neuter-shuttle-victor-ashe-park-5/
LOCATION:Victor Ashe Park\, 4901 Bradshaw Road\, Knoxville\, TN\, 37912\, United States
CATEGORIES:Spay Shuttle Calendar
END:VEVENT
BEGIN:VEVENT
DTSTART;TZID=America/New_York:20251106T080000
DTEND;TZID=America/New_York:20251106T163000
DTSTAMP:20260422T194856
CREATED:20251112T135022Z
LAST-MODIFIED:20251119T143031Z
UID:3353172-1762416000-1762446600@www.young-williams.org
SUMMARY:Spay/Neuter Shuttle @ New Harvest
DESCRIPTION:Drop Off for dogs is 8:00 AM and Pickup is 4:00 PM. Drop Off for cats is 8:30 AM and Pickup is 4:30 PM.
URL:https://www.young-williams.org/event/spay-neuter-shuttle-new-harvest/
LOCATION:New Harvest Park\, 4775 New Harvest Lane\, Knoxville\, TN\, 37918\, United States
CATEGORIES:Spay Shuttle Calendar
END:VEVENT
BEGIN:VEVENT
DTSTART;TZID=America/New_York:20251107T080000
DTEND;TZID=America/New_York:20251107T163000
DTSTAMP:20260422T194856
CREATED:20251112T135121Z
LAST-MODIFIED:20251119T143037Z
UID:3353177-1762502400-1762533000@www.young-williams.org
SUMMARY:Spay/Neuter Shuttle @ Charter Doyle
DESCRIPTION:Drop Off for dogs is 8:00 AM and Pickup is 4:00 PM. Drop Off for cats is 8:30 AM and Pickup is 4:30 PM.
URL:https://www.young-williams.org/event/spay-neuter-shuttle-charter-doyle/
LOCATION:Charter Doyle Park\, 5100 W Martin Mill Park\, Knoxville\, 37920\, United States
CATEGORIES:Spay Shuttle Calendar
END:VEVENT
BEGIN:VEVENT
DTSTART;TZID=America/New_York:20251110T080000
DTEND;TZID=America/New_York:20251110T163000
DTSTAMP:20260422T194856
CREATED:20251112T135214Z
LAST-MODIFIED:20251119T143044Z
UID:3353178-1762761600-1762792200@www.young-williams.org
SUMMARY:Spay/Neuter Shuttle @ Tommy Shumpert Park
DESCRIPTION:Drop Off for dogs is 8:00 AM and Pickup is 4:00 PM. Drop Off for cats is 8:30 AM and Pickup is 4:30 PM.
URL:https://www.young-williams.org/event/spay-neuter-shuttle-tommy-shumpert-park-3/
LOCATION:Tommy Schumpert Park\, 6400 Fountain City Road\, Knoxville\, 37918\, United States
CATEGORIES:Spay Shuttle Calendar
END:VEVENT
BEGIN:VEVENT
DTSTART;TZID=America/New_York:20251111T080000
DTEND;TZID=America/New_York:20251111T163000
DTSTAMP:20260422T194856
CREATED:20251112T135329Z
LAST-MODIFIED:20251119T143049Z
UID:3353179-1762848000-1762878600@www.young-williams.org
SUMMARY:Spay/Neuter Shuttle @ Shelter Public
DESCRIPTION:Drop Off for dogs is 8:00 AM and Pickup is 4:00 PM. Drop Off for cats is 8:30 AM and Pickup is 4:30 PM.
URL:https://www.young-williams.org/event/spay-neuter-shuttle-shelter-public/
LOCATION:Shuttle@Shelter\, 3201 Division Street\, Knoxville\, TN\, 37919\, United States
CATEGORIES:Spay Shuttle Calendar
END:VEVENT
BEGIN:VEVENT
DTSTART;TZID=America/New_York:20251117T080000
DTEND;TZID=America/New_York:20251117T163000
DTSTAMP:20260422T194857
CREATED:20251112T135521Z
LAST-MODIFIED:20251119T143053Z
UID:3353182-1763366400-1763397000@www.young-williams.org
SUMMARY:Spay/Neuter Shuttle @ Sam Duff Park
DESCRIPTION:Drop Off for dogs is 8:00 AM and Pickup is 4:00 PM. Drop Off for cats is 8:30 AM and Pickup is 4:30 PM.
URL:https://www.young-williams.org/event/spay-neuter-shuttle-sam-duff-park-5/
LOCATION:Sam Duff Park\, 4060 Chapman Hwy\, Knoxville\, TN\, 37920\, United States
CATEGORIES:Spay Shuttle Calendar
END:VEVENT
BEGIN:VEVENT
DTSTART;TZID=America/New_York:20251118T080000
DTEND;TZID=America/New_York:20251118T163000
DTSTAMP:20260422T194857
CREATED:20251112T135602Z
LAST-MODIFIED:20251119T143058Z
UID:3353185-1763452800-1763483400@www.young-williams.org
SUMMARY:Spay/Neuter Shuttle @ Karns Library
DESCRIPTION:Drop Off for dogs is 8:00 AM and Pickup is 4:00 PM. Drop Off for cats is 8:30 AM and Pickup is 4:30 PM.
URL:https://www.young-williams.org/event/spay-neuter-shuttle-karns-library-4/
LOCATION:Karns Library\, 7516 Oak Ridge Hwy\, Knoville\, TN\, 37931\, United States
CATEGORIES:Spay Shuttle Calendar
END:VEVENT
BEGIN:VEVENT
DTSTART;TZID=America/New_York:20251120T080000
DTEND;TZID=America/New_York:20251120T163000
DTSTAMP:20260422T194857
CREATED:20251112T135706Z
LAST-MODIFIED:20251119T143103Z
UID:3353191-1763625600-1763656200@www.young-williams.org
SUMMARY:Spay/Neuter Shuttle @ FC Library
DESCRIPTION:Drop Off for dogs is 8:00 AM and Pickup is 4:00 PM. Drop Off for cats is 8:30 AM and Pickup is 4:30 PM.
URL:https://www.young-williams.org/event/spay-neuter-shuttle-fc-library/
LOCATION:Fountian City Library\, 5300 Stanton Road\, Knoxville\, TN\, 37918\, United States
CATEGORIES:Spay Shuttle Calendar
END:VEVENT
BEGIN:VEVENT
DTSTART;TZID=America/New_York:20251121T080000
DTEND;TZID=America/New_York:20251121T163000
DTSTAMP:20260422T194857
CREATED:20251112T135832Z
LAST-MODIFIED:20251119T143119Z
UID:3353193-1763712000-1763742600@www.young-williams.org
SUMMARY:Spay/Neuter Shuttle @ Knox County Health Department
DESCRIPTION:Drop Off for dogs is 8:00 AM and Pickup is 4:00 PM. Drop Off for cats is 8:30 AM and Pickup is 4:30 PM.
URL:https://www.young-williams.org/event/spay-neuter-shuttle-knox-county-health-department-7/
LOCATION:Knox County Health Department\, 140 Dameron Ave\, Knoxville\, TN\, 37917\, United States
CATEGORIES:Spay Shuttle Calendar
END:VEVENT
BEGIN:VEVENT
DTSTART;TZID=America/New_York:20251124T080000
DTEND;TZID=America/New_York:20251124T163000
DTSTAMP:20260422T194857
CREATED:20251112T135952Z
LAST-MODIFIED:20251119T143119Z
UID:3353197-1763971200-1764001800@www.young-williams.org
SUMMARY:Spay/Neuter Shuttle @ Chilhowee Park
DESCRIPTION:Drop Off for dogs is 8:00 AM and Pickup is 4:00 PM. Drop Off for cats is 8:30 AM and Pickup is 4:30 PM.
URL:https://www.young-williams.org/event/spay-neuter-shuttle-chilhowee-park-2/
LOCATION:Chilhowee Park\, 3301 East Magnolia Ave\, Knoxvill\, TN\, 37914\, United States
CATEGORIES:Spay Shuttle Calendar
END:VEVENT
BEGIN:VEVENT
DTSTART;TZID=America/New_York:20251125T080000
DTEND;TZID=America/New_York:20251125T163000
DTSTAMP:20260422T194857
CREATED:20251112T140028Z
LAST-MODIFIED:20251119T143123Z
UID:3353200-1764057600-1764088200@www.young-williams.org
SUMMARY:Spay/Neuter Shuttle @ Shelter Public
DESCRIPTION:Drop Off for dogs is 8:00 AM and Pickup is 4:00 PM. Drop Off for cats is 8:30 AM and Pickup is 4:30 PM.
URL:https://www.young-williams.org/event/spay-neuter-shuttle-shelter-public-3/
LOCATION:Shuttle@Shelter\, 3201 Division Street\, Knoxville\, TN\, 37919\, United States
CATEGORIES:Spay Shuttle Calendar
END:VEVENT
END:VCALENDAR