BEGIN:VCALENDAR
VERSION:2.0
PRODID:-//Young-Williams Animal Center - ECPv6.15.13.1//NONSGML v1.0//EN
CALSCALE:GREGORIAN
METHOD:PUBLISH
X-ORIGINAL-URL:https://www.young-williams.org
X-WR-CALDESC:Events for Young-Williams Animal Center
REFRESH-INTERVAL;VALUE=DURATION:PT1H
X-Robots-Tag:noindex
X-PUBLISHED-TTL:PT1H
BEGIN:VTIMEZONE
TZID:America/New_York
BEGIN:DAYLIGHT
TZOFFSETFROM:-0500
TZOFFSETTO:-0400
TZNAME:EDT
DTSTART:20240310T070000
END:DAYLIGHT
BEGIN:STANDARD
TZOFFSETFROM:-0400
TZOFFSETTO:-0500
TZNAME:EST
DTSTART:20241103T060000
END:STANDARD
BEGIN:DAYLIGHT
TZOFFSETFROM:-0500
TZOFFSETTO:-0400
TZNAME:EDT
DTSTART:20250309T070000
END:DAYLIGHT
BEGIN:STANDARD
TZOFFSETFROM:-0400
TZOFFSETTO:-0500
TZNAME:EST
DTSTART:20251102T060000
END:STANDARD
BEGIN:DAYLIGHT
TZOFFSETFROM:-0500
TZOFFSETTO:-0400
TZNAME:EDT
DTSTART:20260308T070000
END:DAYLIGHT
BEGIN:STANDARD
TZOFFSETFROM:-0400
TZOFFSETTO:-0500
TZNAME:EST
DTSTART:20261101T060000
END:STANDARD
END:VTIMEZONE
BEGIN:VEVENT
DTSTART;TZID=America/New_York:20251002T080000
DTEND;TZID=America/New_York:20251002T160000
DTSTAMP:20260422T181856
CREATED:20251002T145508Z
LAST-MODIFIED:20251002T145509Z
UID:3164715-1759392000-1759420800@www.young-williams.org
SUMMARY:Spay/Neuter Shuttle @ Knox County Health Department
DESCRIPTION:
URL:https://www.young-williams.org/event/spay-neuter-shuttle-knox-county-health-department-5/
LOCATION:Knox County Health Department\, 140 Dameron Ave\, Knoxville\, TN\, 37917\, United States
CATEGORIES:All Events,Spay Shuttle Calendar
END:VEVENT
BEGIN:VEVENT
DTSTART;TZID=America/New_York:20251014T080000
DTEND;TZID=America/New_York:20251014T160000
DTSTAMP:20260422T181856
CREATED:20251002T145700Z
LAST-MODIFIED:20251002T145700Z
UID:3164730-1760428800-1760457600@www.young-williams.org
SUMMARY:Spay/Neuter Shuttle @ Young-Williams Animal Center
DESCRIPTION:
URL:https://www.young-williams.org/event/spay-neuter-shuttle-young-williams-animal-center-9/
LOCATION:Young-Williams Animal Center\, 3201 Division Street\, Knoxville\, TN\, 37919\, United States
CATEGORIES:All Events,Spay Shuttle Calendar
END:VEVENT
BEGIN:VEVENT
DTSTART;TZID=America/New_York:20251016T080000
DTEND;TZID=America/New_York:20251016T160000
DTSTAMP:20260422T181856
CREATED:20251002T145939Z
LAST-MODIFIED:20251002T145939Z
UID:3164742-1760601600-1760630400@www.young-williams.org
SUMMARY:Spay/Neuter Shuttle @ Karns Library
DESCRIPTION:
URL:https://www.young-williams.org/event/spay-neuter-shuttle-karns-library-3/
LOCATION:Karns Library\, 7516 Oak Ridge Hwy\, Knoville\, TN\, 37931\, United States
CATEGORIES:All Events,Spay Shuttle Calendar
END:VEVENT
BEGIN:VEVENT
DTSTART;TZID=America/New_York:20251017T080000
DTEND;TZID=America/New_York:20251017T160000
DTSTAMP:20260422T181856
CREATED:20251002T150131Z
LAST-MODIFIED:20251002T150132Z
UID:3164767-1760688000-1760716800@www.young-williams.org
SUMMARY:Spay/Neuter Shuttle @ Charter Doyle Park
DESCRIPTION:
URL:https://www.young-williams.org/event/spay-neuter-shuttle-charter-doyle-park-4/
LOCATION:Charter Doyle Park\, 5100 W Martin Mill Park\, Knoxville\, 37920\, United States
CATEGORIES:All Events,Spay Shuttle Calendar
END:VEVENT
BEGIN:VEVENT
DTSTART;TZID=America/New_York:20251020T080000
DTEND;TZID=America/New_York:20251020T160000
DTSTAMP:20260422T181856
CREATED:20251002T150227Z
LAST-MODIFIED:20251002T150228Z
UID:3164784-1760947200-1760976000@www.young-williams.org
SUMMARY:Spay/Neuter Shuttle @ Adair Park
DESCRIPTION:
URL:https://www.young-williams.org/event/spay-neuter-shuttle-adair-park-4/
LOCATION:Adair Park\, 1807 Adair Drive\, Knoxville\, TN\, 37918\, United States
CATEGORIES:All Events,Spay Shuttle Calendar
END:VEVENT
BEGIN:VEVENT
DTSTART;TZID=America/New_York:20251021T080000
DTEND;TZID=America/New_York:20251021T160000
DTSTAMP:20260422T181856
CREATED:20251002T150340Z
LAST-MODIFIED:20251002T150341Z
UID:3164788-1761033600-1761062400@www.young-williams.org
SUMMARY:Spay/Neuter Shuttle @ Sam Duff Park
DESCRIPTION:
URL:https://www.young-williams.org/event/spay-neuter-shuttle-sam-duff-park-4/
LOCATION:Sam Duff Park\, 4060 Chapman Hwy\, Knoxville\, TN\, 37920\, United States
CATEGORIES:All Events,Spay Shuttle Calendar
END:VEVENT
BEGIN:VEVENT
DTSTART;TZID=America/New_York:20251023T080000
DTEND;TZID=America/New_York:20251023T160000
DTSTAMP:20260422T181856
CREATED:20251002T150446Z
LAST-MODIFIED:20251002T150447Z
UID:3164796-1761206400-1761235200@www.young-williams.org
SUMMARY:Spay/Neuter Shuttle @ Victor Ashe Park
DESCRIPTION:
URL:https://www.young-williams.org/event/spay-neuter-shuttle-victor-ashe-park-4/
LOCATION:Victor Ashe Park\, 4901 Bradshaw Road\, Knoxville\, TN\, 37912\, United States
CATEGORIES:All Events,Spay Shuttle Calendar
END:VEVENT
BEGIN:VEVENT
DTSTART;TZID=America/New_York:20251024T080000
DTEND;TZID=America/New_York:20251024T160000
DTSTAMP:20260422T181856
CREATED:20251002T151539Z
LAST-MODIFIED:20251002T151540Z
UID:3164800-1761292800-1761321600@www.young-williams.org
SUMMARY:Spay/Neuter Shuttle @ Young-Williams Animal Shelter
DESCRIPTION:
URL:https://www.young-williams.org/event/spay-neuter-shuttle-young-williams-animal-shelter/
LOCATION:Young-Williams Animal Center\, 3201 Division Street\, Knoxville\, TN\, 37919\, United States
CATEGORIES:All Events,Spay Shuttle Calendar
END:VEVENT
BEGIN:VEVENT
DTSTART;TZID=America/New_York:20251027T080000
DTEND;TZID=America/New_York:20251027T160000
DTSTAMP:20260422T181856
CREATED:20251002T151638Z
LAST-MODIFIED:20251002T152743Z
UID:3164834-1761552000-1761580800@www.young-williams.org
SUMMARY:Spay/Neuter Shuttle @ Knox County Health Department
DESCRIPTION:
URL:https://www.young-williams.org/event/spay-neuter-shuttle-knox-county-health-department-6/
LOCATION:Knox County Health Department\, 140 Dameron Ave\, Knoxville\, TN\, 37917\, United States
CATEGORIES:All Events,Spay Shuttle Calendar
END:VEVENT
BEGIN:VEVENT
DTSTART;TZID=America/New_York:20251028T080000
DTEND;TZID=America/New_York:20251028T160000
DTSTAMP:20260422T181856
CREATED:20251002T152929Z
LAST-MODIFIED:20251002T152929Z
UID:3164924-1761638400-1761667200@www.young-williams.org
SUMMARY:Spay/Neuter Shuttle @ Young-Williams Animal Center
DESCRIPTION:
URL:https://www.young-williams.org/event/spay-neuter-shuttle-young-williams-animal-center-10/
LOCATION:Young-Williams Animal Center\, 3201 Division Street\, Knoxville\, TN\, 37919\, United States
CATEGORIES:All Events,Spay Shuttle Calendar
END:VEVENT
END:VCALENDAR