BEGIN:VCALENDAR
VERSION:2.0
PRODID:-//Young-Williams Animal Center - ECPv6.15.13.1//NONSGML v1.0//EN
CALSCALE:GREGORIAN
METHOD:PUBLISH
X-ORIGINAL-URL:https://www.young-williams.org
X-WR-CALDESC:Events for Young-Williams Animal Center
REFRESH-INTERVAL;VALUE=DURATION:PT1H
X-Robots-Tag:noindex
X-PUBLISHED-TTL:PT1H
BEGIN:VTIMEZONE
TZID:America/New_York
BEGIN:DAYLIGHT
TZOFFSETFROM:-0500
TZOFFSETTO:-0400
TZNAME:EDT
DTSTART:20230312T070000
END:DAYLIGHT
BEGIN:STANDARD
TZOFFSETFROM:-0400
TZOFFSETTO:-0500
TZNAME:EST
DTSTART:20231105T060000
END:STANDARD
BEGIN:DAYLIGHT
TZOFFSETFROM:-0500
TZOFFSETTO:-0400
TZNAME:EDT
DTSTART:20240310T070000
END:DAYLIGHT
BEGIN:STANDARD
TZOFFSETFROM:-0400
TZOFFSETTO:-0500
TZNAME:EST
DTSTART:20241103T060000
END:STANDARD
BEGIN:DAYLIGHT
TZOFFSETFROM:-0500
TZOFFSETTO:-0400
TZNAME:EDT
DTSTART:20250309T070000
END:DAYLIGHT
BEGIN:STANDARD
TZOFFSETFROM:-0400
TZOFFSETTO:-0500
TZNAME:EST
DTSTART:20251102T060000
END:STANDARD
END:VTIMEZONE
BEGIN:VEVENT
DTSTART;TZID=America/New_York:20241203T000000
DTEND;TZID=America/New_York:20241203T235900
DTSTAMP:20260423T074543
CREATED:20241122T181121Z
LAST-MODIFIED:20241122T181754Z
UID:1619055-1733184000-1733270340@www.young-williams.org
SUMMARY:Giving Tuesday
DESCRIPTION:On December 3\, 2024\, people all around the world are coming together to tap into the power of human connection and strengthen communities and change our world. It’s time to unLEASH your generosity\, and help homeless pets in our community! Join us in making a huge impact for Knoxville\, and the people and pets who live here on Giving Tuesday. \n\nGiving Tuesday was created in 2012 as a simple idea: a day that encourages people to do good. Over the past 11 years\, this idea has grown into a year-round global movement that inspires hundreds of millions of people to give\, collaborate\, and celebrate generosity. \nAbout 11\,000 animals come through our doors each year\, and we rely on financial contributions from the community to give them the care they deserve. Here’s where you come in. We need your help to reach each of our $10\,000 goal. \nThis Giving Tuesday\, we’re calling on all animal lovers to donate and spread the word. Join the giving on December 3 here. \nThanks so much for helping us care for the nearly 11\,000 animals that come to us in need of shelter each year. Our mission can only be achieved with the support of our community of animal lovers\, like you!
URL:https://www.young-williams.org/event/giving-tuesday-4/
LOCATION:Young-Williams Animal Center\, 3201 Division Street\, Knoxville\, TN\, 37919\, United States
CATEGORIES:All Events,Featured,Fundraiser
ATTACH;FMTTYPE=image/png:https://www.young-williams.org/wp-content/uploads/2024/11/Color-Stacked-1.png
END:VEVENT
END:VCALENDAR