BEGIN:VCALENDAR
VERSION:2.0
PRODID:-//Young-Williams Animal Center - ECPv6.15.13.1//NONSGML v1.0//EN
CALSCALE:GREGORIAN
METHOD:PUBLISH
X-WR-CALNAME:Young-Williams Animal Center
X-ORIGINAL-URL:https://www.young-williams.org
X-WR-CALDESC:Events for Young-Williams Animal Center
REFRESH-INTERVAL;VALUE=DURATION:PT1H
X-Robots-Tag:noindex
X-PUBLISHED-TTL:PT1H
BEGIN:VTIMEZONE
TZID:America/New_York
BEGIN:DAYLIGHT
TZOFFSETFROM:-0500
TZOFFSETTO:-0400
TZNAME:EDT
DTSTART:20250309T070000
END:DAYLIGHT
BEGIN:STANDARD
TZOFFSETFROM:-0400
TZOFFSETTO:-0500
TZNAME:EST
DTSTART:20251102T060000
END:STANDARD
BEGIN:DAYLIGHT
TZOFFSETFROM:-0500
TZOFFSETTO:-0400
TZNAME:EDT
DTSTART:20260308T070000
END:DAYLIGHT
BEGIN:STANDARD
TZOFFSETFROM:-0400
TZOFFSETTO:-0500
TZNAME:EST
DTSTART:20261101T060000
END:STANDARD
BEGIN:DAYLIGHT
TZOFFSETFROM:-0500
TZOFFSETTO:-0400
TZNAME:EDT
DTSTART:20270314T070000
END:DAYLIGHT
BEGIN:STANDARD
TZOFFSETFROM:-0400
TZOFFSETTO:-0500
TZNAME:EST
DTSTART:20271107T060000
END:STANDARD
BEGIN:DAYLIGHT
TZOFFSETFROM:-0500
TZOFFSETTO:-0400
TZNAME:EDT
DTSTART:20280312T070000
END:DAYLIGHT
BEGIN:STANDARD
TZOFFSETFROM:-0400
TZOFFSETTO:-0500
TZNAME:EST
DTSTART:20281105T060000
END:STANDARD
END:VTIMEZONE
BEGIN:VEVENT
DTSTART;TZID=America/New_York:20260613T003000
DTEND;TZID=America/New_York:20260613T013000
DTSTAMP:20260420T043231
CREATED:20260413T155011Z
LAST-MODIFIED:20260416T180143Z
UID:16197-1781310600-1781314200@www.young-williams.org
SUMMARY:Kitten Yoga at Blue Ridge Yoga
DESCRIPTION:We’re thrilled to team up again with Blue Ridge Yoga for another Kitten Yoga! Join us at Blue Ridge Studio for a lighthearted yoga class—complete with adorable\, adoptable kittens. You may even meet your future furry family member! $30 donation per person – 100% of proceeds go directly to YWAC to support vulnerable pets. \nCan’t join in person? No worries! Sign up for the $10 livestream class. Your donation will help provide Kitten Milk Replacement (KMR)—a critical need for the shelter during this busy kitten season. Come for the yoga\, stay for the kittens—and leave with a full heart. \nIf you aren’t attending and would like to contribute\, additional items needed include canned wet food\, litter\, microwaveable heating discs\, digital kitchen scales\, and powdered kitten formula. \nLearn more at yogaknoxvilletn.com.
URL:https://www.young-williams.org/event/kitten-yoga-at-blue-ridge-yoga-61326/
LOCATION:Blue Ridge Yoga Studio\, 623 N Campbell Station Rd\,\, Farragut\, TN\, 37934\, United States
CATEGORIES:All Events,Fundraiser
END:VEVENT
BEGIN:VEVENT
DTSTART;TZID=America/New_York:20260801T003000
DTEND;TZID=America/New_York:20260801T013000
DTSTAMP:20260420T043231
CREATED:20260413T155000Z
LAST-MODIFIED:20260416T180044Z
UID:3962832-1785544200-1785547800@www.young-williams.org
SUMMARY:Kitten Yoga at Blue Ridge Yoga
DESCRIPTION:We’re thrilled to team up again with Blue Ridge Yoga for another Kitten Yoga! Join us at Blue Ridge Studio for a lighthearted yoga class—complete with adorable\, adoptable kittens. You may even meet your future furry family member! $30 donation per person – 100% of proceeds go directly to YWAC to support vulnerable pets. \nCan’t join in person? No worries! Sign up for the $10 livestream class. Your donation will help provide Kitten Milk Replacement (KMR)—a critical need for the shelter during this busy kitten season. Come for the yoga\, stay for the kittens—and leave with a full heart. \nIf you aren’t attending and would like to contribute\, additional items needed include canned wet food\, litter\, microwaveable heating discs\, digital kitchen scales\, and powdered kitten formula. \nLearn more at yogaknoxvilletn.com.
URL:https://www.young-williams.org/event/kitten-yoga-at-blue-ridge-yoga-8126/
LOCATION:Blue Ridge Yoga Studio\, 623 N Campbell Station Rd\,\, Farragut\, TN\, 37934\, United States
CATEGORIES:All Events,Fundraiser
END:VEVENT
BEGIN:VEVENT
DTSTART;TZID=America/New_York:20261112T183000
DTEND;TZID=America/New_York:20261112T230000
DTSTAMP:20260420T043231
CREATED:20260416T180828Z
LAST-MODIFIED:20260416T181122Z
UID:3976393-1794508200-1794524400@www.young-williams.org
SUMMARY:Cause for Paws 2026
DESCRIPTION:We are so excited to celebrate our 12th Annual Cause for Paws on Thursday\, November 12 at the Knoxville Museum of Art. \nThis signature event is an annual highlight as we celebrate our important lifesaving work\, share our successes and give you a glimpse into the future of Young-Williams Animal Center. Enjoy cocktails in the garden\, seated dinner\, entertainment and special appearances from some of our furry friends. We promise an evening filled with happy tails. \nAs the municipal shelter of the City of Knoxville and Knox County\, the shelter takes in more than 11\,000 lost\, unwanted\, abandoned and neglected animals each year and depends on animal lovers and fundraisers to provide the best quality of life while these pets are in the shelter’s care. \nWe could not do our important work without your help and hope you’ll join us for this fun evening.
URL:https://www.young-williams.org/event/cause-for-paws-2026/
LOCATION:Knoxville Museum of Art\, 1050 Worlds Fair Park Dr.\, Knoxville\, TN\, 37916\, United States
CATEGORIES:All Events,Featured,Fundraiser
ATTACH;FMTTYPE=image/jpeg:https://www.young-williams.org/wp-content/uploads/2025/06/IMG_2694-min-scaled.jpg
END:VEVENT
BEGIN:VEVENT
DTSTART;TZID=America/New_York:20270306T110000
DTEND;TZID=America/New_York:20270306T150000
DTSTAMP:20260420T043231
CREATED:20260313T140602Z
LAST-MODIFIED:20260416T180557Z
UID:3855873-1804330800-1804345200@www.young-williams.org
SUMMARY:20th Annual Mardi Growl
DESCRIPTION:
URL:https://www.young-williams.org/event/20th-annual-mardi-growl/
LOCATION:TN
CATEGORIES:All Events,Featured,Fundraiser,Mardi Growl
END:VEVENT
END:VCALENDAR