BEGIN:VCALENDAR
VERSION:2.0
PRODID:-//Young-Williams Animal Center - ECPv6.15.13.1//NONSGML v1.0//EN
CALSCALE:GREGORIAN
METHOD:PUBLISH
X-WR-CALNAME:Young-Williams Animal Center
X-ORIGINAL-URL:https://www.young-williams.org
X-WR-CALDESC:Events for Young-Williams Animal Center
REFRESH-INTERVAL;VALUE=DURATION:PT1H
X-Robots-Tag:noindex
X-PUBLISHED-TTL:PT1H
BEGIN:VTIMEZONE
TZID:UTC
BEGIN:STANDARD
TZOFFSETFROM:+0000
TZOFFSETTO:+0000
TZNAME:UTC
DTSTART:20220101T000000
END:STANDARD
END:VTIMEZONE
BEGIN:VEVENT
DTSTART;TZID=UTC:20230429T100000
DTEND;TZID=UTC:20230429T130000
DTSTAMP:20260420T082357
CREATED:20230411T173727Z
LAST-MODIFIED:20230424T232658Z
UID:16963-1682762400-1682773200@www.young-williams.org
SUMMARY:Kitten Shower
DESCRIPTION:It’s kitten season and we’re expecting…. thousands of kittens in need of lifesaving care! With tiny babies already arriving\, we need your help to welcome them. \nJoin us on Saturday\, April 29\, 2023 between 10:00 am and 1:00 pm for a Kitten Shower at the Division Street location. Please bring a gift from our Kitten Shower Wishlist for your admission and a chance to win a fun door prize: https://amzn.to/386sXqE. Top needed items are pate kitten food\, miracle nipples\, and heating discs. Come hangout with adorable kittens\, enjoy games and light refreshments\, learn more about fostering and more! \nHelp us take care of the thousands of babies that will need our help this summer! \nYou can help provide the supplies and life-saving care that gives these tiniest residents a fighting chance. Help us reach our goal of $2\,500 to secure an additional $2\,500 from our friends at Boehringer Ingelheim. Give today and help us reach our match goal at young-williams.org/kittens/
URL:https://www.young-williams.org/event/kitten-shower-3/
LOCATION:Young-Williams Animal Center\, 3201 Division Street\, Knoxville\, TN\, 37919\, United States
CATEGORIES:All Events,Featured,Fundraiser
ATTACH;FMTTYPE=image/png:https://www.young-williams.org/wp-content/uploads/2022/01/buffy_173579_02-1024x1024-1.png
END:VEVENT
END:VCALENDAR