BEGIN:VCALENDAR
VERSION:2.0
PRODID:-//Young-Williams Animal Center - ECPv6.15.13.1//NONSGML v1.0//EN
CALSCALE:GREGORIAN
METHOD:PUBLISH
X-WR-CALNAME:Young-Williams Animal Center
X-ORIGINAL-URL:https://www.young-williams.org
X-WR-CALDESC:Events for Young-Williams Animal Center
REFRESH-INTERVAL;VALUE=DURATION:PT1H
X-Robots-Tag:noindex
X-PUBLISHED-TTL:PT1H
BEGIN:VTIMEZONE
TZID:UTC
BEGIN:STANDARD
TZOFFSETFROM:+0000
TZOFFSETTO:+0000
TZNAME:UTC
DTSTART:20230101T000000
END:STANDARD
END:VTIMEZONE
BEGIN:VEVENT
DTSTART;TZID=UTC:20240415T080000
DTEND;TZID=UTC:20240415T160000
DTSTAMP:20260422T100229
CREATED:20240229T210737Z
LAST-MODIFIED:20240229T210737Z
UID:577967-1713168000-1713196800@www.young-williams.org
SUMMARY:Shuttle@ Karns Library
DESCRIPTION:
URL:https://www.young-williams.org/event/shuttle-karns-library-38/
LOCATION:Karns Library\, 7516 Oak Ridge Hwy\, Knoville\, TN\, 37931\, United States
CATEGORIES:Spay Shuttle Calendar
END:VEVENT
END:VCALENDAR